Workbook
Name Einzelkulturen: 'Konventionell (2)'!$A$3:$H$61
Name Einzelkulturen: 'Begr.-Rechner int. Prod.'!$A$4:$H$62

Sheet Anleitung
A1: Bedienungsanleitung Begrünungsrechner 2024
A2: KONTAKT: | B2: https://www.bwsb.at/ | E2: Fragen und Anregungen an: | H2: simon.kriegner-schramml@lk-ooe.at | L2: Version: | M2: 20240729
A4: Der Begrünungsrechner ist grob in die Bereiche integrierte Produktion, BIO und den Informationsbereich untergliedert.
A5: Durch einen KLICK auf die folgenden Schaltflächen bzw. durch Auswahl der entsprechenden Tabellenblätter gelangen Sie zu den einzelnen Bereichen.
F8: INFORMATIONSBEREICH
F9: Dieser Bereich ist in die Tabellenblätter Begrünungstabellen 2024 und Anbauzeitpunkte gegliedert.
F11: Der Bereich Begrünungstabellen 2024 enthält eine Liste von Einzelkulturen und Begrünungsmischungen mit einer Kurzbeschreibung
H12: Durch einen KLICK auf diesen Link ► gelangen Sie zur Begrünungsliste
F14: Der Bereich Anbauzeitpunkte enthält Informationen zu den empfohlenen Anbauzeitpunkten und pflanzenbaulichen Eigenschaften
F15: Dieser Bereich ist zusätzlich in Eigenschaften winterharter und abfrostender Kulturen untergliedert
H16: Durch einen KLICK auf diesen Link ► gelangen Sie zu den Anbauzeitpunkten
A19: Bereich integrierte Produktion | L19: Bereich biologische Produktion
A20: Dieser Bereich ist in die Tabellenblätter "Begr.- Rechner int. Prod." und "Zusammenfassung int. Prod." unterteilt. | L20: Dieser Bereich ist in die Tabellenblätter "Begr.-Rechner BIO" und "Zusammenfasseung BIO" unterteilt.
A21: Der Bereich integrierte Produktion enthält ausgewählte Einzelkulturen, welche für den integriert wirtschaftenden landwirtschaftlichen Betrieb geeignet sind. | L21: Der Bereich BIO enthält ausgewählte Einzelkulturen, welche für biologisch wirtschaftende Betriebe geeignet sind.
L22: Um die Berechnung vollständig ausführen zu können müssen die betreffende Fläche und die geplante Saatgutmenge je ha angeführt werden.
A23: Um die Berechnung vollständig ausführen zu können müssen die betreffende Fläche und die geplante Saatgutmenge je ha angeführt werden.
A24: Die Preise je kg und die Reinsaatstärke können angepasst werden. Oben RECHTS werden relative Saatstärke aus allen gewählten Kulturen und Mischungen, der Preis je ha und die Saatgutmenge je ha angezeigt. | L24: Die Preise je kg und die Reinsaatstärke können angepasst werden. Oben RECHTS werden relative Saatstärke aus allen gewählten Kulturen und Mischungen, der Preis je ha und die Saatgutmenge je ha angezeigt.
C26: ► HIER gelangen Sie gelangen Sie zum Begrünungsrechner | N26: ► Hier gelangen Sie zum Begrünungsrechner BIO
A28: Der Bereich Zusammenfassung integrierte Produktion enthält eine Listung der im Begrünungsrechner ausgewählten Kulturen, den diesbezüglichen Saatgutmengen und Anteilen an der gesamten Mischung. Diese kann anschließend ausgedruckt werden. | L28: Der Bereich Zusammenfassung BIO enthält eine Listung der im Begrünungsrechner ausgewählten Kulturen, den diesbezüglichen Saatgutmengen und Anteilen an der gesamten Mischung. Diese kann anschließend ausgedruckt werden.
C30: ► HIER gelangen Sie zur Zusammenfassung | N30: ► HIER gelangen Sie zur Zusammenfassung BIO

Sheet Begr.-Rechner int. Prod.
A1: Jahr 2024 | B1: Sie können hier den entsprechenden Preis eingeben - die vorausgefüllten Werte entsprechen Durchschnittswerten laut Preisspanne gem. Begrünungstabelle 2024 | C1: angeführte Werte sind Durchschnitts - bzw. Beispielwerte Hier können auch eigene Werte eingetragen werden | E1: MISCHUNGSBERECHNUNG | I1: =IF(OR($I$2="",$I$2=0),"bitte geben Sie HIER die Begrünungsfläche in ha an","Fläche in ha") -> bitte geben Sie HIER die Begrünungsfläche in ha an | J1: Menge in kg/ha geplant | K1: Kosten je ha in € | L1: Mischungs-anteil in % (=relative Saatstärke) | M1: ZUR ZUSAMMENFASSUNG ►
A2: Kulturbezeichnung | B2: Richtpreis/kg | C2: Menge Reinsaat | D2: Kosten/ha bei Reinsaat | E2: Menge/ha | F2: Kosten/ha in € | G2: Saatstärke in % der Reinsaat | H2: Menge in kg | J2: =SUM(E4:E62) -> 0 | K2: =SUM(F4:F62) -> 0 | L2: =SUM(G4:G62) -> 0
A3: Einzelkulturen | E3: ▼ | I3: Pflanzenfamilie | J3: relativer Leguminosenanteil: | L3: =IF('Zusammenfassung int. Prod.'!H4=0,"0 %",'Zusammenfassung int. Prod.'!H4) | M3: =IF(AND(L3>0.6,L3<>"0 %",J2>0),"ACHTUNG Vorfruchtwirkung beachten: ungenutzte ZWF > 60 % Leg.: 20 kg N genutzte ZWF > 60% Leg.: 10 kg N","")
A4: Abessinischer Senf | B4: 5.57 | C4: 15 | D4: =IF(ISERROR(C4*B4),0,C4*B4) -> 83.55 | F4: =IF(ISERROR(E4*B4),0,(E4*B4)) -> 0 | G4: =IF(ISERROR(E4/C4),0,(E4/C4)) -> 0 | H4: =IF(ISERROR(ROUND($I$2*E4,1)),0,ROUND($I$2*E4,1)) -> 0 | I4: Kreuzblütler | J4: Düngeobergrenzen im Herbst gem. NAPV:
A5: Alexandrinerklee | B5: 4.9 | C5: 25 | D5: =IF(ISERROR(C5*B5),0,C5*B5) -> 122.5 | F5: =IF(ISERROR(E5*B5),0,(E5*B5)) -> 0 | G5: =IF(ISERROR(E5/C5),0,(E5/C5)) -> 0 | H5: =IF(ISERROR(ROUND($I$2*E5,1)),0,ROUND($I$2*E5,1)) -> 0 | I5: Leguminose
A6: Bastardraygras | B6: 2.89 | C6: 25 | D6: =IF(ISERROR(C6*B6),0,C6*B6) -> 72.25 | F6: =IF(ISERROR(E6*B6),0,(E6*B6)) -> 0 | G6: =IF(ISERROR(E6/C6),0,(E6/C6)) -> 0 | H6: =IF(ISERROR(ROUND($I$2*E6,1)),0,ROUND($I$2*E6,1)) -> 0 | I6: Gräser | J6: =IF(L6="","Wirtschaftsdüngerart auswählen ►","genutzte Wirtschaftsdüngerart:") -> Wirtschaftsdüngerart auswählen ►
A7: Bitterlupine | B7: 1.63 | C7: 170 | D7: =IF(ISERROR(C7*B7),0,C7*B7) -> 277.1 | F7: =IF(ISERROR(E7*B7),0,(E7*B7)) -> 0 | G7: =IF(ISERROR(E7/C7),0,(E7/C7)) -> 0 | H7: =IF(ISERROR(ROUND($I$2*E7,1)),0,ROUND($I$2*E7,1)) -> 0 | I7: Leguminose
A8: Buchweizen | B8: 1.89 | C8: 70 | D8: =IF(ISERROR(C8*B8),0,C8*B8) -> 132.3 | F8: =IF(ISERROR(E8*B8),0,(E8*B8)) -> 0 | G8: =IF(ISERROR(E8/C8),0,(E8/C8)) -> 0 | H8: =IF(ISERROR(ROUND($I$2*E8,1)),0,ROUND($I$2*E8,1)) -> 0 | I8: Knöterichgewächse | J8: Düngeobergenze gem. NAPV: | L8: =IF(L6="",CONCATENATE('Konventionell (2)'!T13," kg N ab Lager"),CONCATENATE('Konventionell (2)'!T13," kg N ab Lager (",'Konventionell (2)'!U13," kg N jw)","")) -> 60 kg N ab Lager
A9: Einjähriges Raygras (Westerwoldisches Raygras) | B9: 2.66 | C9: 40 | D9: =IF(ISERROR(C9*B9),0,C9*B9) -> 106.4 | F9: =IF(ISERROR(E9*B9),0,(E9*B9)) -> 0 | G9: =IF(ISERROR(E9/C9),0,(E9/C9)) -> 0 | H9: =IF(ISERROR(ROUND($I$2*E9,1)),0,ROUND($I$2*E9,1)) -> 0 | I9: Gräser
A10: Englisches Raygras (Deutsches Weidelgras) | B10: 3.18 | C10: 30 | D10: =IF(ISERROR(C10*B10),0,C10*B10) -> 95.4 | F10: =IF(ISERROR(E10*B10),0,(E10*B10)) -> 0 | G10: =IF(ISERROR(E10/C10),0,(E10/C10)) -> 0 | H10: =IF(ISERROR(ROUND($I$2*E10,1)),0,ROUND($I$2*E10,1)) -> 0 | I10: Gräser | J10: Düngeobergenze in Nitratrisikogebieten gem. NAPV Anlage 5: | L10: =IF(L6="",CONCATENATE('Konventionell (2)'!T12," kg N ab Lager"),CONCATENATE('Konventionell (2)'!T12," kg N ab Lager (",'Konventionell (2)'!U12," kg N jw)","")) -> 60 kg N ab Lager
A11: Esparsette | B11: 3.65 | C11: 180 | D11: =IF(ISERROR(C11*B11),0,C11*B11) -> 657 | F11: =IF(ISERROR(E11*B11),0,(E11*B11)) -> 0 | G11: =IF(ISERROR(E11/C11),0,(E11/C11)) -> 0 | H11: =IF(ISERROR(ROUND($I$2*E11,1)),0,ROUND($I$2*E11,1)) -> 0 | I11: Leguminose
A12: Futtererbse | B12: 1.41 | C12: 160 | D12: =IF(ISERROR(C12*B12),0,C12*B12) -> 225.6 | F12: =IF(ISERROR(E12*B12),0,(E12*B12)) -> 0 | G12: =IF(ISERROR(E12/C12),0,(E12/C12)) -> 0 | H12: =IF(ISERROR(ROUND($I$2*E12,1)),0,ROUND($I$2*E12,1)) -> 0 | I12: Leguminose | J12: Herbstdüngegrenze von 60 kg N ab Lager ab der Ernte der letzten Hauptkultur beachten
A13: Futterkohl | B13: 13.29 | C13: 4 | D13: =IF(ISERROR(C13*B13),0,C13*B13) -> 53.16 | F13: =IF(ISERROR(E13*B13),0,(E13*B13)) -> 0 | G13: =IF(ISERROR(E13/C13),0,(E13/C13)) -> 0 | H13: =IF(ISERROR(ROUND($I$2*E13,1)),0,ROUND($I$2*E13,1)) -> 0 | I13: Kreuzblütler
A14: Gelbklee (Hopfenklee) | B14: 8.23 | C14: 30 | D14: =IF(ISERROR(C14*B14),0,C14*B14) -> 246.9 | F14: =IF(ISERROR(E14*B14),0,(E14*B14)) -> 0 | G14: =IF(ISERROR(E14/C14),0,(E14/C14)) -> 0 | H14: =IF(ISERROR(ROUND($I$2*E14,1)),0,ROUND($I$2*E14,1)) -> 0 | I14: Leguminose
A15: Grünschnittroggen | B15: 1.92 | C15: 120 | D15: =IF(ISERROR(C15*B15),0,C15*B15) -> 230.4 | F15: =IF(ISERROR(E15*B15),0,(E15*B15)) -> 0 | G15: =IF(ISERROR(E15/C15),0,(E15/C15)) -> 0 | H15: =IF(ISERROR(ROUND($I$2*E15,1)),0,ROUND($I$2*E15,1)) -> 0 | I15: Gräser
A16: Hanf | B16: 10.18 | C16: 40 | D16: =IF(ISERROR(C16*B16),0,C16*B16) -> 407.2 | G16: =IF(ISERROR(E16/C16),0,(E16/C16)) -> 0 | H16: =IF(ISERROR(ROUND($I$2*E16,1)),0,ROUND($I$2*E16,1)) -> 0 | I16: Hanfgewächse
A17: Herbstrübe | B17: 9.98 | C17: 2 | D17: =IF(ISERROR(C17*B17),0,C17*B17) -> 19.96 | F17: =IF(ISERROR(E17*B17),0,(E17*B17)) -> 0 | G17: =IF(ISERROR(E17/C17),0,(E17/C17)) -> 0 | H17: =IF(ISERROR(ROUND($I$2*E17,1)),0,ROUND($I$2*E17,1)) -> 0 | I17: Kreuzblütler
A18: Hirse | B18: 4.03 | C18: 15 | D18: =IF(ISERROR(C18*B18),0,C18*B18) -> 60.45 | F18: =IF(ISERROR(E18*B18),0,(E18*B18)) -> 0 | G18: =IF(ISERROR(E18/C18),0,(E18/C18)) -> 0 | H18: =IF(ISERROR(ROUND($I$2*E18,1)),0,ROUND($I$2*E18,1)) -> 0 | I18: Gräser
A19: Hornklee | B19: 17.46 | C19: 20 | D19: =IF(ISERROR(C19*B19),0,C19*B19) -> 349.2 | F19: =IF(ISERROR(E19*B19),0,(E19*B19)) -> 0 | G19: =IF(ISERROR(E19/C19),0,(E19/C19)) -> 0 | H19: =IF(ISERROR(ROUND($I$2*E19,1)),0,ROUND($I$2*E19,1)) -> 0 | I19: Leguminose
A20: Inkarnatklee | B20: 3.21 | C20: 30 | D20: =IF(ISERROR(C20*B20),0,C20*B20) -> 96.3 | F20: =IF(ISERROR(E20*B20),0,(E20*B20)) -> 0 | G20: =IF(ISERROR(E20/C20),0,(E20/C20)) -> 0 | H20: =IF(ISERROR(ROUND($I$2*E20,1)),0,ROUND($I$2*E20,1)) -> 0 | I20: Leguminose
A21: Italienisches Raygras (Welsches Weidelgras) | B21: 2.72 | C21: 40 | D21: =IF(ISERROR(C21*B21),0,C21*B21) -> 108.8 | F21: =IF(ISERROR(E21*B21),0,(E21*B21)) -> 0 | G21: =IF(ISERROR(E21/C21),0,(E21/C21)) -> 0 | H21: =IF(ISERROR(ROUND($I$2*E21,1)),0,ROUND($I$2*E21,1)) -> 0 | I21: Gräser
A22: Kresse | B22: 4.92 | C22: 10 | D22: =IF(ISERROR(C22*B22),0,C22*B22) -> 49.2 | F22: =IF(ISERROR(E22*B22),0,(E22*B22)) -> 0 | G22: =IF(ISERROR(E22/C22),0,(E22/C22)) -> 0 | H22: =IF(ISERROR(ROUND($I$2*E22,1)),0,ROUND($I$2*E22,1)) -> 0 | I22: Kreuzblütler
A23: Kulturmalve | B23: 20.05 | C23: 12 | D23: =IF(ISERROR(C23*B23),0,C23*B23) -> 240.6 | F23: =IF(ISERROR(E23*B23),0,(E23*B23)) -> 0 | G23: =IF(ISERROR(E23/C23),0,(E23/C23)) -> 0 | H23: =IF(ISERROR(ROUND($I$2*E23,1)),0,ROUND($I$2*E23,1)) -> 0 | I23: Malvengewächse
A24: Leindotter | B24: 4.85 | C24: 10 | D24: =IF(ISERROR(C24*B24),0,C24*B24) -> 48.5 | F24: =IF(ISERROR(E24*B24),0,(E24*B24)) -> 0 | G24: =IF(ISERROR(E24/C24),0,(E24/C24)) -> 0 | H24: =IF(ISERROR(ROUND($I$2*E24,1)),0,ROUND($I$2*E24,1)) -> 0 | I24: Kreuzblütler
A25: Linse | B25: 5.51 | C25: 90 | D25: =IF(ISERROR(C25*B25),0,C25*B25) -> 495.9 | F25: =IF(ISERROR(E25*B25),0,(E25*B25)) -> 0 | G25: =IF(ISERROR(E25/C25),0,(E25/C25)) -> 0 | H25: =IF(ISERROR(ROUND($I$2*E25,1)),0,ROUND($I$2*E25,1)) -> 0 | I25: Leguminose
A26: Luzerne | B26: 7.91 | C26: 25 | D26: =IF(ISERROR(C26*B26),0,C26*B26) -> 197.75 | F26: =IF(ISERROR(E26*B26),0,(E26*B26)) -> 0 | G26: =IF(ISERROR(E26/C26),0,(E26/C26)) -> 0 | H26: =IF(ISERROR(ROUND($I$2*E26,1)),0,ROUND($I$2*E26,1)) -> 0 | I26: Leguminose
A27: Meliorationsrettich | B27: 7.8 | C27: 8 | D27: =IF(ISERROR(C27*B27),0,C27*B27) -> 62.4 | F27: =IF(ISERROR(E27*B27),0,(E27*B27)) -> 0 | G27: =IF(ISERROR(E27/C27),0,(E27/C27)) -> 0 | H27: =IF(ISERROR(ROUND($I$2*E27,1)),0,ROUND($I$2*E27,1)) -> 0 | I27: Kreuzblütler
A28: MUNGO (Schwarzsamen/ Ramtilkraut / Gingellikraut) | B28: 3.58 | C28: 10 | D28: =IF(ISERROR(C28*B28),0,C28*B28) -> 35.8 | F28: =IF(ISERROR(E28*B28),0,(E28*B28)) -> 0 | G28: =IF(ISERROR(E28/C28),0,(E28/C28)) -> 0 | H28: =IF(ISERROR(ROUND($I$2*E28,1)),0,ROUND($I$2*E28,1)) -> 0 | I28: Korbblütler
... A32: Phazelie | B32: 4.63 | C32: 12 | D32: =IF(ISERROR(C32*B32),0,C32*B32) -> 55.56 | F32: =IF(ISERROR(E32*B32),0,(E32*B32)) -> 0 | G32: =IF(ISERROR(E32/C32),0,(E32/C32)) -> 0 | H32: =IF(ISERROR(ROUND($I$2*E32,1)),0,ROUND($I$2*E32,1)) -> 0 | I32: Wasserblattgewächse
A33: Pigmentplatterbse | B33: 2.2 | C33: =(120+160)/2 -> 140 | D33: =IF(ISERROR(C33*B33),0,C33*B33) -> 308 | F33: =IF(ISERROR(E33*B33),0,(E33*B33)) -> 0 | G33: =IF(ISERROR(E33/C33),0,(E33/C33)) -> 0 | H33: =IF(ISERROR(ROUND($I$2*E33,1)),0,ROUND($I$2*E33,1)) -> 0 | I33: Leguminose
A34: Ringelblume | B34: 19.91 | C34: 12 | D34: =IF(ISERROR(C34*B34),0,C34*B34) -> 238.92 | F34: =IF(ISERROR(E34*B34),0,(E34*B34)) -> 0 | G34: =IF(ISERROR(E34/C34),0,(E34/C34)) -> 0 | H34: =IF(ISERROR(ROUND($I$2*E34,1)),0,ROUND($I$2*E34,1)) -> 0 | I34: Korbblütler
A35: Rotklee | B35: 7.98 | C35: 25 | D35: =IF(ISERROR(C35*B35),0,C35*B35) -> 199.5 | F35: =IF(ISERROR(E35*B35),0,(E35*B35)) -> 0 | G35: =IF(ISERROR(E35/C35),0,(E35/C35)) -> 0 | H35: =IF(ISERROR(ROUND($I$2*E35,1)),0,ROUND($I$2*E35,1)) -> 0 | I35: Leguminose
A36: Saatplatterbse | B36: 2.13 | C36: 150 | D36: =IF(ISERROR(C36*B36),0,C36*B36) -> 319.5 | F36: =IF(ISERROR(E36*B36),0,(E36*B36)) -> 0 | G36: =IF(ISERROR(E36/C36),0,(E36/C36)) -> 0 | H36: =IF(ISERROR(ROUND($I$2*E36,1)),0,ROUND($I$2*E36,1)) -> 0 | I36: Leguminose
A37: Saatwicke / Sommerwicke | B37: 2.66 | C37: 130 | D37: =IF(ISERROR(C37*B37),0,C37*B37) -> 345.8 | F37: =IF(ISERROR(E37*B37),0,(E37*B37)) -> 0 | G37: =IF(ISERROR(E37/C37),0,(E37/C37)) -> 0 | H37: =IF(ISERROR(ROUND($I$2*E37,1)),0,ROUND($I$2*E37,1)) -> 0 | I37: Leguminose
A38: Saflor | B38: 5.52 | C38: 30 | D38: =IF(ISERROR(C38*B38),0,C38*B38) -> 165.6 | F38: =IF(ISERROR(E38*B38),0,(E38*B38)) -> 0 | G38: =IF(ISERROR(E38/C38),0,(E38/C38)) -> 0 | H38: =IF(ISERROR(ROUND($I$2*E38,1)),0,ROUND($I$2*E38,1)) -> 0 | I38: Korbblütler
A39: Sandhafer/Rauhafer | B39: 2.52 | C39: 100 | D39: =IF(ISERROR(C39*B39),0,C39*B39) -> 252 | F39: =IF(ISERROR(E39*B39),0,(E39*B39)) -> 0 | G39: =IF(ISERROR(E39/C39),0,(E39/C39)) -> 0 | H39: =IF(ISERROR(ROUND($I$2*E39,1)),0,ROUND($I$2*E39,1)) -> 0 | I39: Gräser
A40: Sarepta-Senf | B40: 5.89 | C40: 10 | D40: =IF(ISERROR(C40*B40),0,C40*B40) -> 58.9 | F40: =IF(ISERROR(E40*B40),0,(E40*B40)) -> 0 | G40: =IF(ISERROR(E40/C40),0,(E40/C40)) -> 0 | H40: =IF(ISERROR(ROUND($I$2*E40,1)),0,ROUND($I$2*E40,1)) -> 0 | I40: Kreuzblütler
A41: Schwedenklee | B41: 8.17 | C41: 20 | D41: =IF(ISERROR(C41*B41),0,C41*B41) -> 163.4 | F41: =IF(ISERROR(E41*B41),0,(E41*B41)) -> 0 | G41: =IF(ISERROR(E41/C41),0,(E41/C41)) -> 0 | H41: =IF(ISERROR(ROUND($I$2*E41,1)),0,ROUND($I$2*E41,1)) -> 0 | I41: Leguminose
A42: Senf | B42: 2.44 | C42: 15 | D42: =IF(ISERROR(C42*B42),0,C42*B42) -> 36.6 | F42: =IF(ISERROR(E42*B42),0,(E42*B42)) -> 0 | G42: =IF(ISERROR(E42/C42),0,(E42/C42)) -> 0 | H42: =IF(ISERROR(ROUND($I$2*E42,1)),0,ROUND($I$2*E42,1)) -> 0 | I42: Kreuzblütler
A43: Senf nematodenresistent / nematodenhemmend | B43: 3.31 | C43: 20 | D43: =IF(ISERROR(C43*B43),0,C43*B43) -> 66.2 | F43: =IF(ISERROR(E43*B43),0,(E43*B43)) -> 0 | G43: =IF(ISERROR(E43/C43),0,(E43/C43)) -> 0 | H43: =IF(ISERROR(ROUND($I$2*E43,1)),0,ROUND($I$2*E43,1)) -> 0 | I43: Kreuzblütler
...

Sheet Zusammenfassung int. Prod.
A1: Zusammenfassung der gewählten Kulturen / Mischungen | J1: ZURÜCK ZUM BEGRÜNUNGSRECHNER integrierte Produktion ◄ | L1: ◄ ZURÜCK ZUR STARTSEITE / BEDIENUNGSANLEITUNG
A3: Fläche in ha | B3: Menge in kg/ha geplant | C3: Kosten/ha | D3: Mischungs-anteil in % (=relative Saatstärke) | E3: =CONCATENATE("Kosten in € für die Gesamtfläche von ",'Begr.-Rechner int. Prod.'!$I$2," ha") -> Kosten in € für die Gesamtfläche von ha | F3: geeignet für ÖPUL Begrünungsvarianten gem. ÖPUL 2023 | H3: Mischungsanteil Leguminosen (relativer Reinsaatanteil)
A4: =IF('Begr.-Rechner int. Prod.'!$I$2<>"",CONCATENATE('Begr.-Rechner int. Prod.'!$I$2," ha"),"") | B4: =IF('Begr.-Rechner int. Prod.'!$J$2>0,CONCATENATE('Begr.-Rechner int. Prod.'!$J$2, " kg/ha"),"") | C4: =IF('Begr.-Rechner int. Prod.'!$K$2>0,CONCATENATE('Begr.-Rechner int. Prod.'!$K$2," €"),"") | D4: =IF('Begr.-Rechner int. Prod.'!$L$2>0,'Begr.-Rechner int. Prod.'!$L$2,"") | E4: =IF(SUM(F7:F27)>0,CONCATENATE(SUM(F7:F27)," €"),"") | F4: =IF(AND('Konventionell (2)'!Z3="",'Konventionell (2)'!Z4="",'Konventionell (2)'!Z5="",'Konventionell (2)'!Z6="",'Konventionell (2)'!Z7="",'Konventionell (2)'!Z8="",'Konventionell (2)'!Z9="",'Konventionell (2)'!J2>0),'Konventionell (2)'!Z10,CONCATENATE('Konventionell (2)'!Z3,'Konventionell (2)'!Z4,'Konventionell (2)'!Z5,'Konventionell (2)'!Z6,'Konventionell (2)'!Z7,'Konventionell (2)'!Z8,'Konventionell (2)'!Z9)) | H4: =IF(AND($D4>0,P40=0),P40,IF(AND($D4>0,P40>0),P40,"")) | J4: =IF('Konventionell (2)'!$R$3="ja","* zulässige Begrünungskulturen gem. Variante 6 beachten: - Grünschnittroggen nach Saatgutgesetz, - Wintererbse lt. Saatgutgesetz, - Pannonische Wicke, Zottelwicke; Winterackerbohne, Winterrübsen (inkl. Perko)","")
A6: Kulturbezeichnung | B6: Menge/ha | C6: Kosten/ha in € | D6: Saatstärke in % der Reinsaat | E6: Saatgutmenge je Kultur bzw. Mischung in kg | F6: Kosten je Kultur | G6: Pflanzenfamilie | H6: Zulässige Düngung im Herbst:
A7: {=IFERROR(INDEX('Konventionell (2)'!A:A,SMALL(IF('Konventionell (2)'!$E$3:$E$64>0,ROW($3:$64)),ROW(A1))),"")} | B7: {=IFERROR(INDEX('Konventionell (2)'!E:E,SMALL(IF('Konventionell (2)'!$E$3:$E$64>0,ROW($3:$64)),ROW(A1))),"")} | C7: {=IFERROR(INDEX('Konventionell (2)'!F:F,SMALL(IF('Konventionell (2)'!$E$3:$E$64>0,ROW($3:$64)),ROW(A1))),"")} | D7: {=IFERROR(INDEX('Konventionell (2)'!G:G,SMALL(IF('Konventionell (2)'!$E$3:$E$64>0,ROW($3:$64)),ROW(A1))),"")} | E7: {=IFERROR(INDEX('Konventionell (2)'!H:H,SMALL(IF('Konventionell (2)'!$E$3:$E$64>0,ROW($3:$64)),ROW(A1))),"")} | F7: =IF(A7="","",C7*'Begr.-Rechner int. Prod.'!$I$2) | G7: =IFERROR(VLOOKUP(A7,'Konventionell (2)'!$A$3:$I$64,9,0),"") | H7: Düngeobergenze gem. NAPV: | I7: ='Begr.-Rechner int. Prod.'!L8 -> 60 kg N ab Lager | O7: =IF($G7="Leguminose",D7,0) -> 0
A8: {=IFERROR(INDEX('Konventionell (2)'!A:A,SMALL(IF('Konventionell (2)'!$E$3:$E$64>0,ROW($3:$64)),ROW(A2))),"")} | B8: {=IFERROR(INDEX('Konventionell (2)'!E:E,SMALL(IF('Konventionell (2)'!$E$3:$E$64>0,ROW($3:$64)),ROW(A2))),"")} | C8: {=IFERROR(INDEX('Konventionell (2)'!F:F,SMALL(IF('Konventionell (2)'!$E$3:$E$64>0,ROW($3:$64)),ROW(A2))),"")} | D8: {=IFERROR(INDEX('Konventionell (2)'!G:G,SMALL(IF('Konventionell (2)'!$E$3:$E$64>0,ROW($3:$64)),ROW(A2))),"")} | E8: {=IFERROR(INDEX('Konventionell (2)'!H:H,SMALL(IF('Konventionell (2)'!$E$3:$E$64>0,ROW($3:$64)),ROW(A2))),"")} | F8: =IF(A8="","",C8*'Begr.-Rechner int. Prod.'!$I$2) | G8: =IFERROR(VLOOKUP(A8,'Konventionell (2)'!$A$3:$I$64,9,0),"") | J8: =IF(AND(H4>0.6,'Begr.-Rechner int. Prod.'!J2>0),"ACHTUNG Vorfruchtwirkung beachten: ungenutzte ZWF > 60 % Leguminosenanteil: 20 kg genutzte ZWF > 60% Leguminosenanteil: 10 kg N HINWEIS: es zählt Bestand am Feld, dieser Hinweis ist ausschließlich als Orientierungshilfe zu sehen.","") | O8: =IF($G8="Leguminose",D8,0) -> 0
A9: {=IFERROR(INDEX('Konventionell (2)'!A:A,SMALL(IF('Konventionell (2)'!$E$3:$E$64>0,ROW($3:$64)),ROW(A3))),"")} | B9: {=IFERROR(INDEX('Konventionell (2)'!E:E,SMALL(IF('Konventionell (2)'!$E$3:$E$64>0,ROW($3:$64)),ROW(A3))),"")} | C9: {=IFERROR(INDEX('Konventionell (2)'!F:F,SMALL(IF('Konventionell (2)'!$E$3:$E$64>0,ROW($3:$64)),ROW(A3))),"")} | D9: {=IFERROR(INDEX('Konventionell (2)'!G:G,SMALL(IF('Konventionell (2)'!$E$3:$E$64>0,ROW($3:$64)),ROW(A3))),"")} | E9: {=IFERROR(INDEX('Konventionell (2)'!H:H,SMALL(IF('Konventionell (2)'!$E$3:$E$64>0,ROW($3:$64)),ROW(A3))),"")} | F9: =IF(A9="","",C9*'Begr.-Rechner int. Prod.'!$I$2) | G9: =IFERROR(VLOOKUP(A9,'Konventionell (2)'!$A$3:$I$64,9,0),"") | H9: Düngeobergenze in Nitratrisikogebieten gem. NAPV Anlage 5: | I9: ='Begr.-Rechner int. Prod.'!L10 -> 60 kg N ab Lager | O9: =IF($G9="Leguminose",D9,0) -> 0
A10: {=IFERROR(INDEX('Konventionell (2)'!A:A,SMALL(IF('Konventionell (2)'!$E$3:$E$64>0,ROW($3:$64)),ROW(A4))),"")} | B10: {=IFERROR(INDEX('Konventionell (2)'!E:E,SMALL(IF('Konventionell (2)'!$E$3:$E$64>0,ROW($3:$64)),ROW(A4))),"")} | C10: {=IFERROR(INDEX('Konventionell (2)'!F:F,SMALL(IF('Konventionell (2)'!$E$3:$E$64>0,ROW($3:$64)),ROW(A4))),"")} | D10: {=IFERROR(INDEX('Konventionell (2)'!G:G,SMALL(IF('Konventionell (2)'!$E$3:$E$64>0,ROW($3:$64)),ROW(A4))),"")} | E10: {=IFERROR(INDEX('Konventionell (2)'!H:H,SMALL(IF('Konventionell (2)'!$E$3:$E$64>0,ROW($3:$64)),ROW(A4))),"")} | F10: =IF(A10="","",C10*'Begr.-Rechner int. Prod.'!$I$2) | G10: =IFERROR(VLOOKUP(A10,'Konventionell (2)'!$A$3:$I$64,9,0),"") | O10: =IF($G10="Leguminose",D10,0) -> 0
A11: {=IFERROR(INDEX('Konventionell (2)'!A:A,SMALL(IF('Konventionell (2)'!$E$3:$E$64>0,ROW($3:$64)),ROW(A5))),"")} | B11: {=IFERROR(INDEX('Konventionell (2)'!E:E,SMALL(IF('Konventionell (2)'!$E$3:$E$64>0,ROW($3:$64)),ROW(A5))),"")} | C11: {=IFERROR(INDEX('Konventionell (2)'!F:F,SMALL(IF('Konventionell (2)'!$E$3:$E$64>0,ROW($3:$64)),ROW(A5))),"")} | D11: {=IFERROR(INDEX('Konventionell (2)'!G:G,SMALL(IF('Konventionell (2)'!$E$3:$E$64>0,ROW($3:$64)),ROW(A5))),"")} | E11: {=IFERROR(INDEX('Konventionell (2)'!H:H,SMALL(IF('Konventionell (2)'!$E$3:$E$64>0,ROW($3:$64)),ROW(A5))),"")} | F11: =IF(A11="","",C11*'Begr.-Rechner int. Prod.'!$I$2) | G11: =IFERROR(VLOOKUP(A11,'Konventionell (2)'!$A$3:$I$64,9,0),"") | O11: =IF($G11="Leguminose",D11,0) -> 0
A12: {=IFERROR(INDEX('Konventionell (2)'!A:A,SMALL(IF('Konventionell (2)'!$E$3:$E$64>0,ROW($3:$64)),ROW(A6))),"")} | B12: {=IFERROR(INDEX('Konventionell (2)'!E:E,SMALL(IF('Konventionell (2)'!$E$3:$E$64>0,ROW($3:$64)),ROW(A6))),"")} | C12: {=IFERROR(INDEX('Konventionell (2)'!F:F,SMALL(IF('Konventionell (2)'!$E$3:$E$64>0,ROW($3:$64)),ROW(A6))),"")} | D12: {=IFERROR(INDEX('Konventionell (2)'!G:G,SMALL(IF('Konventionell (2)'!$E$3:$E$64>0,ROW($3:$64)),ROW(A6))),"")} | E12: {=IFERROR(INDEX('Konventionell (2)'!H:H,SMALL(IF('Konventionell (2)'!$E$3:$E$64>0,ROW($3:$64)),ROW(A6))),"")} | F12: =IF(A12="","",C12*'Begr.-Rechner int. Prod.'!$I$2) | G12: =IFERROR(VLOOKUP(A12,'Konventionell (2)'!$A$3:$I$64,9,0),"") | H12: Herbstdüngegrenze von 60 kg N ab Lager ab der Ernte der letzten Hauptkultur beachten | O12: =IF($G12="Leguminose",D12,0) -> 0
A13: {=IFERROR(INDEX('Konventionell (2)'!A:A,SMALL(IF('Konventionell (2)'!$E$3:$E$64>0,ROW($3:$64)),ROW(A7))),"")} | B13: {=IFERROR(INDEX('Konventionell (2)'!E:E,SMALL(IF('Konventionell (2)'!$E$3:$E$64>0,ROW($3:$64)),ROW(A7))),"")} | C13: {=IFERROR(INDEX('Konventionell (2)'!F:F,SMALL(IF('Konventionell (2)'!$E$3:$E$64>0,ROW($3:$64)),ROW(A7))),"")} | D13: {=IFERROR(INDEX('Konventionell (2)'!G:G,SMALL(IF('Konventionell (2)'!$E$3:$E$64>0,ROW($3:$64)),ROW(A7))),"")} | E13: {=IFERROR(INDEX('Konventionell (2)'!H:H,SMALL(IF('Konventionell (2)'!$E$3:$E$64>0,ROW($3:$64)),ROW(A7))),"")} | F13: =IF(A13="","",C13*'Begr.-Rechner int. Prod.'!$I$2) | G13: =IFERROR(VLOOKUP(A13,'Konventionell (2)'!$A$3:$I$64,9,0),"") | O13: =IF($G13="Leguminose",D13,0) -> 0
A14: {=IFERROR(INDEX('Konventionell (2)'!A:A,SMALL(IF('Konventionell (2)'!$E$3:$E$64>0,ROW($3:$64)),ROW(A8))),"")} | B14: {=IFERROR(INDEX('Konventionell (2)'!E:E,SMALL(IF('Konventionell (2)'!$E$3:$E$64>0,ROW($3:$64)),ROW(A8))),"")} | C14: {=IFERROR(INDEX('Konventionell (2)'!F:F,SMALL(IF('Konventionell (2)'!$E$3:$E$64>0,ROW($3:$64)),ROW(A8))),"")} | D14: {=IFERROR(INDEX('Konventionell (2)'!G:G,SMALL(IF('Konventionell (2)'!$E$3:$E$64>0,ROW($3:$64)),ROW(A8))),"")} | E14: {=IFERROR(INDEX('Konventionell (2)'!H:H,SMALL(IF('Konventionell (2)'!$E$3:$E$64>0,ROW($3:$64)),ROW(A8))),"")} | F14: =IF(A14="","",C14*'Begr.-Rechner int. Prod.'!$I$2) | G14: =IFERROR(VLOOKUP(A14,'Konventionell (2)'!$A$3:$I$64,9,0),"") | O14: =IF($G14="Leguminose",D14,0) -> 0
A15: {=IFERROR(INDEX('Konventionell (2)'!A:A,SMALL(IF('Konventionell (2)'!$E$3:$E$64>0,ROW($3:$64)),ROW(A9))),"")} | B15: {=IFERROR(INDEX('Konventionell (2)'!E:E,SMALL(IF('Konventionell (2)'!$E$3:$E$64>0,ROW($3:$64)),ROW(A9))),"")} | C15: {=IFERROR(INDEX('Konventionell (2)'!F:F,SMALL(IF('Konventionell (2)'!$E$3:$E$64>0,ROW($3:$64)),ROW(A9))),"")} | D15: {=IFERROR(INDEX('Konventionell (2)'!G:G,SMALL(IF('Konventionell (2)'!$E$3:$E$64>0,ROW($3:$64)),ROW(A9))),"")} | E15: {=IFERROR(INDEX('Konventionell (2)'!H:H,SMALL(IF('Konventionell (2)'!$E$3:$E$64>0,ROW($3:$64)),ROW(A9))),"")} | F15: =IF(A15="","",C15*'Begr.-Rechner int. Prod.'!$I$2) | G15: =IFERROR(VLOOKUP(A15,'Konventionell (2)'!$A$3:$I$64,9,0),"") | O15: =IF($G15="Leguminose",D15,0) -> 0
A16: {=IFERROR(INDEX('Konventionell (2)'!A:A,SMALL(IF('Konventionell (2)'!$E$3:$E$64>0,ROW($3:$64)),ROW(A10))),"")} | B16: {=IFERROR(INDEX('Konventionell (2)'!E:E,SMALL(IF('Konventionell (2)'!$E$3:$E$64>0,ROW($3:$64)),ROW(A10))),"")} | C16: {=IFERROR(INDEX('Konventionell (2)'!F:F,SMALL(IF('Konventionell (2)'!$E$3:$E$64>0,ROW($3:$64)),ROW(A10))),"")} | D16: {=IFERROR(INDEX('Konventionell (2)'!G:G,SMALL(IF('Konventionell (2)'!$E$3:$E$64>0,ROW($3:$64)),ROW(A10))),"")} | E16: {=IFERROR(INDEX('Konventionell (2)'!H:H,SMALL(IF('Konventionell (2)'!$E$3:$E$64>0,ROW($3:$64)),ROW(A10))),"")} | F16: =IF(A16="","",C16*'Begr.-Rechner int. Prod.'!$I$2) | G16: =IFERROR(VLOOKUP(A16,'Konventionell (2)'!$A$3:$I$64,9,0),"") | O16: =IF($G16="Leguminose",D16,0) -> 0
A17: {=IFERROR(INDEX('Konventionell (2)'!A:A,SMALL(IF('Konventionell (2)'!$E$3:$E$64>0,ROW($3:$64)),ROW(A11))),"")} | B17: {=IFERROR(INDEX('Konventionell (2)'!E:E,SMALL(IF('Konventionell (2)'!$E$3:$E$64>0,ROW($3:$64)),ROW(A11))),"")} | C17: {=IFERROR(INDEX('Konventionell (2)'!F:F,SMALL(IF('Konventionell (2)'!$E$3:$E$64>0,ROW($3:$64)),ROW(A11))),"")} | D17: {=IFERROR(INDEX('Konventionell (2)'!G:G,SMALL(IF('Konventionell (2)'!$E$3:$E$64>0,ROW($3:$64)),ROW(A11))),"")} | E17: {=IFERROR(INDEX('Konventionell (2)'!H:H,SMALL(IF('Konventionell (2)'!$E$3:$E$64>0,ROW($3:$64)),ROW(A11))),"")} | F17: =IF(A17="","",C17*'Begr.-Rechner int. Prod.'!$I$2) | G17: =IFERROR(VLOOKUP(A17,'Konventionell (2)'!$A$3:$I$64,9,0),"") | O17: =IF($G17="Leguminose",D17,0) -> 0
A18: {=IFERROR(INDEX('Konventionell (2)'!A:A,SMALL(IF('Konventionell (2)'!$E$3:$E$64>0,ROW($3:$64)),ROW(A12))),"")} | B18: {=IFERROR(INDEX('Konventionell (2)'!E:E,SMALL(IF('Konventionell (2)'!$E$3:$E$64>0,ROW($3:$64)),ROW(A12))),"")} | C18: {=IFERROR(INDEX('Konventionell (2)'!F:F,SMALL(IF('Konventionell (2)'!$E$3:$E$64>0,ROW($3:$64)),ROW(A12))),"")} | D18: {=IFERROR(INDEX('Konventionell (2)'!G:G,SMALL(IF('Konventionell (2)'!$E$3:$E$64>0,ROW($3:$64)),ROW(A12))),"")} | E18: {=IFERROR(INDEX('Konventionell (2)'!H:H,SMALL(IF('Konventionell (2)'!$E$3:$E$64>0,ROW($3:$64)),ROW(A12))),"")} | F18: =IF(A18="","",C18*'Begr.-Rechner int. Prod.'!$I$2) | G18: =IFERROR(VLOOKUP(A18,'Konventionell (2)'!$A$3:$I$64,9,0),"") | O18: =IF($G18="Leguminose",D18,0) -> 0
A19: {=IFERROR(INDEX('Konventionell (2)'!A:A,SMALL(IF('Konventionell (2)'!$E$3:$E$64>0,ROW($3:$64)),ROW(A13))),"")} | B19: {=IFERROR(INDEX('Konventionell (2)'!E:E,SMALL(IF('Konventionell (2)'!$E$3:$E$64>0,ROW($3:$64)),ROW(A13))),"")} | C19: {=IFERROR(INDEX('Konventionell (2)'!F:F,SMALL(IF('Konventionell (2)'!$E$3:$E$64>0,ROW($3:$64)),ROW(A13))),"")} | D19: {=IFERROR(INDEX('Konventionell (2)'!G:G,SMALL(IF('Konventionell (2)'!$E$3:$E$64>0,ROW($3:$64)),ROW(A13))),"")} | E19: {=IFERROR(INDEX('Konventionell (2)'!H:H,SMALL(IF('Konventionell (2)'!$E$3:$E$64>0,ROW($3:$64)),ROW(A13))),"")} | F19: =IF(A19="","",C19*'Begr.-Rechner int. Prod.'!$I$2) | G19: =IFERROR(VLOOKUP(A19,'Konventionell (2)'!$A$3:$I$64,9,0),"") | O19: =IF($G19="Leguminose",D19,0) -> 0
A20: {=IFERROR(INDEX('Konventionell (2)'!A:A,SMALL(IF('Konventionell (2)'!$E$3:$E$64>0,ROW($3:$64)),ROW(A14))),"")} | B20: {=IFERROR(INDEX('Konventionell (2)'!E:E,SMALL(IF('Konventionell (2)'!$E$3:$E$64>0,ROW($3:$64)),ROW(A14))),"")} | C20: {=IFERROR(INDEX('Konventionell (2)'!F:F,SMALL(IF('Konventionell (2)'!$E$3:$E$64>0,ROW($3:$64)),ROW(A14))),"")} | D20: {=IFERROR(INDEX('Konventionell (2)'!G:G,SMALL(IF('Konventionell (2)'!$E$3:$E$64>0,ROW($3:$64)),ROW(A14))),"")} | E20: {=IFERROR(INDEX('Konventionell (2)'!H:H,SMALL(IF('Konventionell (2)'!$E$3:$E$64>0,ROW($3:$64)),ROW(A14))),"")} | F20: =IF(A20="","",C20*'Begr.-Rechner int. Prod.'!$I$2) | G20: =IFERROR(VLOOKUP(A20,'Konventionell (2)'!$A$3:$I$64,9,0),"") | O20: =IF($G20="Leguminose",D20,0) -> 0
A21: {=IFERROR(INDEX('Konventionell (2)'!A:A,SMALL(IF('Konventionell (2)'!$E$3:$E$64>0,ROW($3:$64)),ROW(A15))),"")} | B21: {=IFERROR(INDEX('Konventionell (2)'!E:E,SMALL(IF('Konventionell (2)'!$E$3:$E$64>0,ROW($3:$64)),ROW(A15))),"")} | C21: {=IFERROR(INDEX('Konventionell (2)'!F:F,SMALL(IF('Konventionell (2)'!$E$3:$E$64>0,ROW($3:$64)),ROW(A15))),"")} | D21: {=IFERROR(INDEX('Konventionell (2)'!G:G,SMALL(IF('Konventionell (2)'!$E$3:$E$64>0,ROW($3:$64)),ROW(A15))),"")} | E21: {=IFERROR(INDEX('Konventionell (2)'!H:H,SMALL(IF('Konventionell (2)'!$E$3:$E$64>0,ROW($3:$64)),ROW(A15))),"")} | F21: =IF(A21="","",C21*'Begr.-Rechner int. Prod.'!$I$2) | G21: =IFERROR(VLOOKUP(A21,'Konventionell (2)'!$A$3:$I$64,9,0),"") | O21: =IF($G21="Leguminose",D21,0) -> 0
A22: {=IFERROR(INDEX('Konventionell (2)'!A:A,SMALL(IF('Konventionell (2)'!$E$3:$E$64>0,ROW($3:$64)),ROW(A16))),"")} | B22: {=IFERROR(INDEX('Konventionell (2)'!E:E,SMALL(IF('Konventionell (2)'!$E$3:$E$64>0,ROW($3:$64)),ROW(A16))),"")} | C22: {=IFERROR(INDEX('Konventionell (2)'!F:F,SMALL(IF('Konventionell (2)'!$E$3:$E$64>0,ROW($3:$64)),ROW(A16))),"")} | D22: {=IFERROR(INDEX('Konventionell (2)'!G:G,SMALL(IF('Konventionell (2)'!$E$3:$E$64>0,ROW($3:$64)),ROW(A16))),"")} | E22: {=IFERROR(INDEX('Konventionell (2)'!H:H,SMALL(IF('Konventionell (2)'!$E$3:$E$64>0,ROW($3:$64)),ROW(A16))),"")} | F22: =IF(A22="","",C22*'Begr.-Rechner int. Prod.'!$I$2) | G22: =IFERROR(VLOOKUP(A22,'Konventionell (2)'!$A$3:$I$64,9,0),"") | O22: =IF($G22="Leguminose",D22,0) -> 0
A23: {=IFERROR(INDEX('Konventionell (2)'!A:A,SMALL(IF('Konventionell (2)'!$E$3:$E$64>0,ROW($3:$64)),ROW(A17))),"")} | B23: {=IFERROR(INDEX('Konventionell (2)'!E:E,SMALL(IF('Konventionell (2)'!$E$3:$E$64>0,ROW($3:$64)),ROW(A17))),"")} | C23: {=IFERROR(INDEX('Konventionell (2)'!F:F,SMALL(IF('Konventionell (2)'!$E$3:$E$64>0,ROW($3:$64)),ROW(A17))),"")} | D23: {=IFERROR(INDEX('Konventionell (2)'!G:G,SMALL(IF('Konventionell (2)'!$E$3:$E$64>0,ROW($3:$64)),ROW(A17))),"")} | E23: {=IFERROR(INDEX('Konventionell (2)'!H:H,SMALL(IF('Konventionell (2)'!$E$3:$E$64>0,ROW($3:$64)),ROW(A17))),"")} | F23: =IF(A23="","",C23*'Begr.-Rechner int. Prod.'!$I$2) | G23: =IFERROR(VLOOKUP(A23,'Konventionell (2)'!$A$3:$I$64,9,0),"") | O23: =IF($G23="Leguminose",D23,0) -> 0
A24: {=IFERROR(INDEX('Konventionell (2)'!A:A,SMALL(IF('Konventionell (2)'!$E$3:$E$64>0,ROW($3:$64)),ROW(A18))),"")} | B24: {=IFERROR(INDEX('Konventionell (2)'!E:E,SMALL(IF('Konventionell (2)'!$E$3:$E$64>0,ROW($3:$64)),ROW(A18))),"")} | C24: {=IFERROR(INDEX('Konventionell (2)'!F:F,SMALL(IF('Konventionell (2)'!$E$3:$E$64>0,ROW($3:$64)),ROW(A18))),"")} | D24: {=IFERROR(INDEX('Konventionell (2)'!G:G,SMALL(IF('Konventionell (2)'!$E$3:$E$64>0,ROW($3:$64)),ROW(A18))),"")} | E24: {=IFERROR(INDEX('Konventionell (2)'!H:H,SMALL(IF('Konventionell (2)'!$E$3:$E$64>0,ROW($3:$64)),ROW(A18))),"")} | F24: =IF(A24="","",C24*'Begr.-Rechner int. Prod.'!$I$2) | G24: =IFERROR(VLOOKUP(A24,'Konventionell (2)'!$A$3:$I$64,9,0),"") | O24: =IF($G24="Leguminose",D24,0) -> 0
... A39: {=IFERROR(INDEX('Konventionell (2)'!A:A,SMALL(IF('Konventionell (2)'!$E$3:$E$64>0,ROW($3:$64)),ROW(A33))),"")} | B39: {=IFERROR(INDEX('Konventionell (2)'!E:E,SMALL(IF('Konventionell (2)'!$E$3:$E$64>0,ROW($3:$64)),ROW(A33))),"")} | C39: {=IFERROR(INDEX('Konventionell (2)'!F:F,SMALL(IF('Konventionell (2)'!$E$3:$E$64>0,ROW($3:$64)),ROW(A33))),"")} | D39: {=IFERROR(INDEX('Konventionell (2)'!G:G,SMALL(IF('Konventionell (2)'!$E$3:$E$64>0,ROW($3:$64)),ROW(A33))),"")} | E39: {=IFERROR(INDEX('Konventionell (2)'!H:H,SMALL(IF('Konventionell (2)'!$E$3:$E$64>0,ROW($3:$64)),ROW(A33))),"")} | F39: =IF(A39="","",C39*'Begr.-Rechner int. Prod.'!$I$2) | G39: =IFERROR(VLOOKUP(A39,'Konventionell (2)'!$A$3:$I$64,9,0),"") | O39: =IF($G39="Leguminose",D39,0) -> 0
O40: =SUM(O7:O39) -> 0 | P40: =IF(D4<>"",O40/D4,"")

Sheet Konventionell (2)
A1: Jahr 2024 | B1: Sie können hier den entsprechenden Preis eingeben - die vorausgefüllten Werte entsprechen Durchschnittswerten laut Preisspanne gem. Begrünungstabelle 2024 | C1: angeführte Werte sind Durchschnitts - bzw. Beispielwerte Hier können auch eigene Werte eingetragen werden | E1: MISCHUNGSBERECHNUNG | I1: =IF($I$2="","bitte geben Sie HIER die Begrünungsfläche in ha an","Fläche in ha") -> Fläche in ha | J1: Menge in kg/ha geplant | K1: Kosten/ha in € | L1: Mischungs-anteil in % (=relative Saatstärke) | W1: ÖPUL 2015 Varianten
A2: Kulturbezeichnung | B2: Richtpreis/kg | C2: Menge Reinsaat | D2: Kosten/ha bei Reinsaat | E2: Menge/ha | F2: Kosten/ha in € | G2: Saatstärke in % der Reinsaat | H2: Menge in kg | I2: ='Begr.-Rechner int. Prod.'!$I$2 -> 0 | J2: =SUM(E3:E61) -> 0 | K2: =SUM(F3:F61) -> 0 | L2: =SUM(G3:G61) -> 0 | M2: Var. 6 konform | N2: Insektenblütig | O2: In Begrünungsliste ausgewählt ? | P2: Pflanzenfamilie ausgewählt | Q2: Var 6 konform | R2: Var 6 | S2: Anzahl Familien | T2: Anzahl Mischungspartner | U2: Summe Insektenblütige Mischungspartner | V2: Zählenn wenn insektenblütig | W2: Variante | X2: Mischungspartner | Y2: Anzahl Pflanzenfamilien | Z2: Mischung zu Variante Konform? | AB2: Familien Drop Down | AC2: Drop Down JA Nein insektenblütig | AD2: Drop Down JA Nein Var. 6 | AE2: Wirtschaftsdüngerart | AF2: JW Faktor | AG2: Ausbringverluste
A3: Abessinischer Senf | B3: ='Begr.-Rechner int. Prod.'!B4 -> 5.57 | C3: ='Begr.-Rechner int. Prod.'!C4 -> 15 | D3: =IF(ISERROR(C3*B3),0,C3*B3) -> 83.55 | E3: ='Begr.-Rechner int. Prod.'!E4 -> 0 | F3: =IF(ISERROR(E3*B3),0,(E3*B3)) -> 0 | G3: =IF(ISERROR(E3/C3),0,(E3/C3)) -> 0 | H3: =IF(ISERROR($I$2*E3),0,($I$2*E3)) -> 0 | I3: Kreuzblütler | K3: relativer Leguminosenanteil | M3: nein | N3: ja | O3: =IF(E3>0,"ja","nein") -> nein | P3: =IF(O3="ja",I3,"") | Q3: =COUNTIFS($M$3:$M$61,"ja",$O$3:$O$61,"ja") -> 0 | R3: =IF(AND($R$5>0,$R$4=0),"ja",IF(AND($R$5>0,$R$4>0),"nein",IF(AND($R$5=0,$R$4>0),"nein","nein"))) -> nein | S3: {=SUM(1/(COUNTIF(P3:P61,P3:P61)))-1} -> -1.110223e-15 | T3: =COUNTIF($O$3:$O$61,"ja") -> 0 | U3: =SUM($V$3:$V$61) -> 0 | V3: =IF(AND(O3="ja",N3="ja"),1,"") | W3: Variante 1 | X3: 5 | Y3: 2 | Z3: =IF(AND($U$3>=$X$3,$S$3>=$Y$3),"Var.1; ","")
A4: Alexandrinerklee | B4: ='Begr.-Rechner int. Prod.'!B5 -> 4.9 | C4: ='Begr.-Rechner int. Prod.'!C5 -> 25 | D4: =IF(ISERROR(C4*B4),0,C4*B4) -> 122.5 | E4: ='Begr.-Rechner int. Prod.'!E5 -> 0 | F4: =IF(ISERROR(E4*B4),0,(E4*B4)) -> 0 | G4: =IF(ISERROR(E4/C4),0,(E4/C4)) -> 0 | H4: =IF(ISERROR($I$2*E4),0,($I$2*E4)) -> 0 | I4: Leguminose | K4: ='Begr.-Rechner int. Prod.'!L3 | M4: nein | N4: ja | O4: =IF(E4>0,"ja","nein") -> nein | P4: =IF(O4="ja",I4,"") | R4: =COUNTIFS($M$3:$M$61,"nein",$O$3:$O$61,"ja") -> 0 | V4: =IF(AND(O4="ja",N4="ja"),1,"") | W4: Variante 2 | X4: 7 | Y4: 3 | Z4: =IF(AND($T$3>=$X$4,$S$3>=$Y$4),"Var.2; ","") | AB4: Doldenblütler | AC4: Ja | AD4: Grünschnittroggen | AE4: Rindergülle | AF4: 0.7 | AG4: 0.87
A5: Bastardraygras | B5: ='Begr.-Rechner int. Prod.'!B6 -> 2.89 | C5: ='Begr.-Rechner int. Prod.'!C6 -> 25 | D5: =IF(ISERROR(C5*B5),0,C5*B5) -> 72.25 | E5: ='Begr.-Rechner int. Prod.'!E6 -> 0 | F5: =IF(ISERROR(E5*B5),0,(E5*B5)) -> 0 | G5: =IF(ISERROR(E5/C5),0,(E5/C5)) -> 0 | H5: =IF(ISERROR($I$2*E5),0,($I$2*E5)) -> 0 | I5: Gräser | M5: nein | N5: nein | O5: =IF(E5>0,"ja","nein") -> nein | P5: =IF(O5="ja",I5,"") | R5: =COUNTIFS($M$3:$M$61,"ja",$O$3:$O$61,"ja") -> 0 | V5: =IF(AND(O5="ja",N5="ja"),1,"") | W5: Variante 3 | X5: 3 | Y5: 2 | Z5: =IF(AND($T$3>=$X$5,$S$3>=$Y$5),"Var.3; ","") | AB5: Gänsefußgewächse | AC5: Nein | AD5: Pannonische Wicke | AE5: Schweinegülle | AF5: 0.8 | AG5: 0.87
A6: Bitterlupine | B6: ='Begr.-Rechner int. Prod.'!B7 -> 1.63 | C6: ='Begr.-Rechner int. Prod.'!C7 -> 170 | D6: =IF(ISERROR(C6*B6),0,C6*B6) -> 277.1 | E6: ='Begr.-Rechner int. Prod.'!E7 -> 0 | F6: =IF(ISERROR(E6*B6),0,(E6*B6)) -> 0 | G6: =IF(ISERROR(E6/C6),0,(E6/C6)) -> 0 | H6: =IF(ISERROR($I$2*E6),0,($I$2*E6)) -> 0 | I6: Leguminose | M6: nein | N6: ja | O6: =IF(E6>0,"ja","nein") -> nein | P6: =IF(O6="ja",I6,"") | V6: =IF(AND(O6="ja",N6="ja"),1,"") | W6: Variante 4 | X6: 3 | Y6: 2 | Z6: =IF(AND($T$3>=$X$6,$S$3>=$Y$6),"Var.4; ","") | AB6: Gräser | AD6: Zottelwicke | AE6: Hühnergülle | AF6: 0.85 | AG6: 0.87
A7: Buchweizen | B7: ='Begr.-Rechner int. Prod.'!B8 -> 1.89 | C7: ='Begr.-Rechner int. Prod.'!C8 -> 70 | D7: =IF(ISERROR(C7*B7),0,C7*B7) -> 132.3 | E7: ='Begr.-Rechner int. Prod.'!E8 -> 0 | F7: =IF(ISERROR(E7*B7),0,(E7*B7)) -> 0 | G7: =IF(ISERROR(E7/C7),0,(E7/C7)) -> 0 | H7: =IF(ISERROR($I$2*E7),0,($I$2*E7)) -> 0 | I7: Knöterichgewächse | M7: nein | N7: ja | O7: =IF(E7>0,"ja","nein") -> nein | P7: =IF(O7="ja",I7,"") | V7: =IF(AND(O7="ja",N7="ja"),1,"") | W7: Varainte 5 | X7: 3 | Y7: 2 | Z7: =IF(AND($T$3>=$X$7,$S$3>=$Y$7),"Var.5; ","") | AB7: Hanfgewächse | AD7: Winterackerbohne | AE7: Jauche | AF7: 1 | AG7: 0.87
A8: Einjähriges Raygras (Westerwoldisches Raygras) | B8: ='Begr.-Rechner int. Prod.'!B9 -> 2.66 | C8: ='Begr.-Rechner int. Prod.'!C9 -> 40 | D8: =IF(ISERROR(C8*B8),0,C8*B8) -> 106.4 | E8: ='Begr.-Rechner int. Prod.'!E9 -> 0 | F8: =IF(ISERROR(E8*B8),0,(E8*B8)) -> 0 | G8: =IF(ISERROR(E8/C8),0,(E8/C8)) -> 0 | H8: =IF(ISERROR($I$2*E8),0,($I$2*E8)) -> 0 | I8: Gräser | M8: nein | N8: nein | O8: =IF(E8>0,"ja","nein") -> nein | P8: =IF(O8="ja",I8,"") | Q8: Meldung zu Düngemöglichkeit | T8: Resultat ab Lager | U8: Resultat jw | V8: =IF(AND(O8="ja",N8="ja"),1,"") | W8: Variante 6 | Z8: =IF($R$3="ja","Var. 6 *","") | AB8: Knöterichgewächse | AD8: Wintererbse | AE8: Stallmist | AF8: 0.5 | AG8: 0.91
A9: Englisches Raygras (Deutsches Weidelgras) | B9: ='Begr.-Rechner int. Prod.'!B10 -> 3.18 | C9: ='Begr.-Rechner int. Prod.'!C10 -> 30 | D9: =IF(ISERROR(C9*B9),0,C9*B9) -> 95.4 | E9: ='Begr.-Rechner int. Prod.'!E10 -> 0 | F9: =IF(ISERROR(E9*B9),0,(E9*B9)) -> 0 | G9: =IF(ISERROR(E9/C9),0,(E9/C9)) -> 0 | H9: =IF(ISERROR($I$2*E9),0,($I$2*E9)) -> 0 | I9: Gräser | M9: nein | N9: nein | O9: =IF(E9>0,"ja","nein") -> nein | P9: =IF(O9="ja",I9,"") | Q9: =IF('Begr.-Rechner int. Prod.'!J2=0,80,IF(K4>0,40,80)) -> 80 | R9: =IFERROR(IF('Begr.-Rechner int. Prod.'!$L$6<>"",VLOOKUP('Begr.-Rechner int. Prod.'!$L$6,'Konventionell (2)'!$AE$4:$AG$10,2,0),1),"") -> 1 | S9: =IFERROR(IF('Begr.-Rechner int. Prod.'!$L$6<>"",VLOOKUP('Begr.-Rechner int. Prod.'!$L$6,'Konventionell (2)'!$AE$4:$AG$10,3,0),1),"") -> 1 | T9: =IF('Begr.-Rechner int. Prod.'!$L$6<>"",ROUND(Q9/R9/S9,1),60) -> 60 | U9: =IF('Begr.-Rechner int. Prod.'!L6<>"",Q9,"") | V9: =IF(AND(O9="ja",N9="ja"),1,"") | W9: Variante 7 | X9: 3 | Y9: 2 | Z9: =IF(AND($T$3>=$X$9,$S$3>=$Y$9),"Var.7","") | AB9: Korbblütler | AD9: Winterrübse | AE9: Kompost | AF9: 0.1 | AG9: 0.91
A10: Esparsette | B10: ='Begr.-Rechner int. Prod.'!B11 -> 3.65 | C10: ='Begr.-Rechner int. Prod.'!C11 -> 180 | D10: =IF(ISERROR(C10*B10),0,C10*B10) -> 657 | E10: ='Begr.-Rechner int. Prod.'!E11 -> 0 | F10: =IF(ISERROR(E10*B10),0,(E10*B10)) -> 0 | G10: =IF(ISERROR(E10/C10),0,(E10/C10)) -> 0 | H10: =IF(ISERROR($I$2*E10),0,($I$2*E10)) -> 0 | I10: Leguminose | M10: nein | N10: ja | O10: =IF(E10>0,"ja","nein") -> nein | P10: =IF(O10="ja",I10,"") | Q10: =IF('Begr.-Rechner int. Prod.'!J2=0,70,IF(K4>0,30,70)) -> 70 | R10: =IFERROR(IF('Begr.-Rechner int. Prod.'!$L$6<>"",VLOOKUP('Begr.-Rechner int. Prod.'!$L$6,'Konventionell (2)'!$AE$4:$AG$10,2,0),1),"") -> 1 | S10: =IFERROR(IF('Begr.-Rechner int. Prod.'!$L$6<>"",VLOOKUP('Begr.-Rechner int. Prod.'!$L$6,'Konventionell (2)'!$AE$4:$AG$10,3,0),1),"") -> 1 | T10: =IF('Begr.-Rechner int. Prod.'!$L$6<>"",ROUND(Q10/R10/S10,1),60) -> 60 | U10: =IF('Begr.-Rechner int. Prod.'!L6<>"",Q10,"") | V10: =IF(AND(O10="ja",N10="ja"),1,"") | Z10: =IF(AND($Z3="",Z4="",Z5="",Z6="",Z7="",Z8=""),"keine ÖPUL Konformität gegeben","") -> keine ÖPUL Konformität gegeben | AB10: Kreuzblütler | AE10: Rottemist | AF10: 0.3 | AG10: 0.91
A11: Futtererbse | B11: ='Begr.-Rechner int. Prod.'!B12 -> 1.41 | C11: ='Begr.-Rechner int. Prod.'!C12 -> 160 | D11: =IF(ISERROR(C11*B11),0,C11*B11) -> 225.6 | E11: ='Begr.-Rechner int. Prod.'!E12 -> 0 | F11: =IF(ISERROR(E11*B11),0,(E11*B11)) -> 0 | G11: =IF(ISERROR(E11/C11),0,(E11/C11)) -> 0 | H11: =IF(ISERROR($I$2*E11),0,($I$2*E11)) -> 0 | I11: Leguminose | M11: ja | N11: ja | O11: =IF(E11>0,"ja","nein") -> nein | P11: =IF(O11="ja",I11,"") | Q11: 60 | R11: =IFERROR(IF('Begr.-Rechner int. Prod.'!$L$6<>"",VLOOKUP('Begr.-Rechner int. Prod.'!$L$6,'Konventionell (2)'!$AE$4:$AG$10,2,0),1),"") -> 1 | S11: =IFERROR(IF('Begr.-Rechner int. Prod.'!$L$6<>"",VLOOKUP('Begr.-Rechner int. Prod.'!$L$6,'Konventionell (2)'!$AE$4:$AG$10,3,0),1),"") -> 1 | T11: =IF('Begr.-Rechner int. Prod.'!$L$6<>"",Q11,60) -> 60 | U11: =IF('Begr.-Rechner int. Prod.'!L6<>"",Q11,"") | V11: =IF(AND(O11="ja",N11="ja"),1,"") | AB11: Leguminose
A12: Futterkohl | B12: ='Begr.-Rechner int. Prod.'!B13 -> 13.29 | C12: ='Begr.-Rechner int. Prod.'!C13 -> 4 | D12: =IF(ISERROR(C12*B12),0,C12*B12) -> 53.16 | E12: ='Begr.-Rechner int. Prod.'!E13 -> 0 | F12: =IF(ISERROR(E12*B12),0,(E12*B12)) -> 0 | G12: =IF(ISERROR(E12/C12),0,(E12/C12)) -> 0 | H12: =IF(ISERROR($I$2*E12),0,($I$2*E12)) -> 0 | I12: Kreuzblütler | M12: nein | N12: ja | O12: =IF(E12>0,"ja","nein") -> nein | P12: =IF(O12="ja",I12,"") | S12: Anlage5 Gebiete | T12: =MIN($T$10:$T$11) -> 60 | U12: =MIN($U$10:$U$11) -> 0 | V12: =IF(AND(O12="ja",N12="ja"),1,"") | AB12: Leingewächse
A13: Gelbklee (Hopfenklee) | B13: ='Begr.-Rechner int. Prod.'!B14 -> 8.23 | C13: ='Begr.-Rechner int. Prod.'!C14 -> 30 | D13: =IF(ISERROR(C13*B13),0,C13*B13) -> 246.9 | E13: ='Begr.-Rechner int. Prod.'!E14 -> 0 | F13: =IF(ISERROR(E13*B13),0,(E13*B13)) -> 0 | G13: =IF(ISERROR(E13/C13),0,(E13/C13)) -> 0 | H13: =IF(ISERROR($I$2*E13),0,($I$2*E13)) -> 0 | I13: Leguminose | M13: nein | N13: ja | O13: =IF(E13>0,"ja","nein") -> nein | P13: =IF(O13="ja",I13,"") | S13: außerhalb Anlage 5 Gebiete | T13: =MIN(T11,T9) -> 60 | U13: =MIN(U11,U9) -> 0 | V13: =IF(AND(O13="ja",N13="ja"),1,"") | AB13: Malvengewächse
A14: Grünschnittroggen | B14: ='Begr.-Rechner int. Prod.'!B15 -> 1.92 | C14: ='Begr.-Rechner int. Prod.'!C15 -> 120 | D14: =IF(ISERROR(C14*B14),0,C14*B14) -> 230.4 | E14: ='Begr.-Rechner int. Prod.'!E15 -> 0 | F14: =IF(ISERROR(E14*B14),0,(E14*B14)) -> 0 | G14: =IF(ISERROR(E14/C14),0,(E14/C14)) -> 0 | H14: =IF(ISERROR($I$2*E14),0,($I$2*E14)) -> 0 | I14: Gräser | M14: ja | N14: nein | O14: =IF(E14>0,"ja","nein") -> nein | P14: =IF(O14="ja",I14,"") | V14: =IF(AND(O14="ja",N14="ja"),1,"") | AB14: Wasserblattgewächse
A15: Hanf | B15: ='Begr.-Rechner int. Prod.'!B16 -> 10.18 | C15: ='Begr.-Rechner int. Prod.'!C16 -> 40 | D15: =IF(ISERROR(C15*B15),0,C15*B15) -> 407.2 | E15: ='Begr.-Rechner int. Prod.'!E16 -> 0 | F15: =IF(ISERROR(E15*B15),0,(E15*B15)) -> 0 | G15: =IF(ISERROR(E15/C15),0,(E15/C15)) -> 0 | H15: =IF(ISERROR($I$2*E15),0,($I$2*E15)) -> 0 | I15: Hanfgewächse | M15: nein | N15: nein | O15: =IF(E15>0,"ja","nein") -> nein | P15: =IF(O15="ja",I15,"") | V15: =IF(AND(O15="ja",N15="ja"),1,"")
A16: Herbstrübe | B16: ='Begr.-Rechner int. Prod.'!B17 -> 9.98 | C16: ='Begr.-Rechner int. Prod.'!C17 -> 2 | D16: =IF(ISERROR(C16*B16),0,C16*B16) -> 19.96 | E16: ='Begr.-Rechner int. Prod.'!E17 -> 0 | F16: =IF(ISERROR(E16*B16),0,(E16*B16)) -> 0 | G16: =IF(ISERROR(E16/C16),0,(E16/C16)) -> 0 | H16: =IF(ISERROR($I$2*E16),0,($I$2*E16)) -> 0 | I16: Kreuzblütler | M16: nein | N16: ja | O16: =IF(E16>0,"ja","nein") -> nein | P16: =IF(O16="ja",I16,"") | V16: =IF(AND(O16="ja",N16="ja"),1,"")
A17: Hirse | B17: ='Begr.-Rechner int. Prod.'!B18 -> 4.03 | C17: ='Begr.-Rechner int. Prod.'!C18 -> 15 | D17: =IF(ISERROR(C17*B17),0,C17*B17) -> 60.45 | E17: ='Begr.-Rechner int. Prod.'!E18 -> 0 | F17: =IF(ISERROR(E17*B17),0,(E17*B17)) -> 0 | G17: =IF(ISERROR(E17/C17),0,(E17/C17)) -> 0 | H17: =IF(ISERROR($I$2*E17),0,($I$2*E17)) -> 0 | I17: Gräser | M17: nein | N17: nein | O17: =IF(E17>0,"ja","nein") -> nein | P17: =IF(O17="ja",I17,"") | V17: =IF(AND(O17="ja",N17="ja"),1,"")
A18: Hornklee | B18: ='Begr.-Rechner int. Prod.'!B19 -> 17.46 | C18: ='Begr.-Rechner int. Prod.'!C19 -> 20 | D18: =IF(ISERROR(C18*B18),0,C18*B18) -> 349.2 | E18: ='Begr.-Rechner int. Prod.'!E19 -> 0 | F18: =IF(ISERROR(E18*B18),0,(E18*B18)) -> 0 | G18: =IF(ISERROR(E18/C18),0,(E18/C18)) -> 0 | H18: =IF(ISERROR($I$2*E18),0,($I$2*E18)) -> 0 | I18: Leguminose | M18: nein | N18: ja | O18: =IF(E18>0,"ja","nein") -> nein | P18: =IF(O18="ja",I18,"") | V18: =IF(AND(O18="ja",N18="ja"),1,"")
A19: Inkarnatklee | B19: ='Begr.-Rechner int. Prod.'!B20 -> 3.21 | C19: ='Begr.-Rechner int. Prod.'!C20 -> 30 | D19: =IF(ISERROR(C19*B19),0,C19*B19) -> 96.3 | E19: ='Begr.-Rechner int. Prod.'!E20 -> 0 | F19: =IF(ISERROR(E19*B19),0,(E19*B19)) -> 0 | G19: =IF(ISERROR(E19/C19),0,(E19/C19)) -> 0 | H19: =IF(ISERROR($I$2*E19),0,($I$2*E19)) -> 0 | I19: Leguminose | M19: nein | N19: ja | O19: =IF(E19>0,"ja","nein") -> nein | P19: =IF(O19="ja",I19,"") | V19: =IF(AND(O19="ja",N19="ja"),1,"")
A20: Italienisches Raygras (Welsches Weidelgras) | B20: ='Begr.-Rechner int. Prod.'!B21 -> 2.72 | C20: ='Begr.-Rechner int. Prod.'!C21 -> 40 | D20: =IF(ISERROR(C20*B20),0,C20*B20) -> 108.8 | E20: ='Begr.-Rechner int. Prod.'!E21 -> 0 | F20: =IF(ISERROR(E20*B20),0,(E20*B20)) -> 0 | G20: =IF(ISERROR(E20/C20),0,(E20/C20)) -> 0 | H20: =IF(ISERROR($I$2*E20),0,($I$2*E20)) -> 0 | I20: Gräser | M20: nein | N20: nein | O20: =IF(E20>0,"ja","nein") -> nein | P20: =IF(O20="ja",I20,"") | V20: =IF(AND(O20="ja",N20="ja"),1,"")
A21: Kresse | B21: ='Begr.-Rechner int. Prod.'!B22 -> 4.92 | C21: ='Begr.-Rechner int. Prod.'!C22 -> 10 | D21: =IF(ISERROR(C21*B21),0,C21*B21) -> 49.2 | E21: ='Begr.-Rechner int. Prod.'!E22 -> 0 | F21: =IF(ISERROR(E21*B21),0,(E21*B21)) -> 0 | G21: =IF(ISERROR(E21/C21),0,(E21/C21)) -> 0 | H21: =IF(ISERROR($I$2*E21),0,($I$2*E21)) -> 0 | I21: Gräser | M21: nein | N21: ja | O21: =IF(E21>0,"ja","nein") -> nein | P21: =IF(O21="ja",I21,"") | V21: =IF(AND(O21="ja",N21="ja"),1,"")
A22: Kulturmalve | B22: ='Begr.-Rechner int. Prod.'!B23 -> 20.05 | C22: ='Begr.-Rechner int. Prod.'!C23 -> 12 | D22: =IF(ISERROR(C22*B22),0,C22*B22) -> 240.6 | E22: ='Begr.-Rechner int. Prod.'!E23 -> 0 | F22: =IF(ISERROR(E22*B22),0,(E22*B22)) -> 0 | G22: =IF(ISERROR(E22/C22),0,(E22/C22)) -> 0 | H22: =IF(ISERROR($I$2*E22),0,($I$2*E22)) -> 0 | I22: Malvengewächse | M22: nein | N22: ja | O22: =IF(E22>0,"ja","nein") -> nein | P22: =IF(O22="ja",I22,"") | V22: =IF(AND(O22="ja",N22="ja"),1,"")
A23: Leindotter | B23: ='Begr.-Rechner int. Prod.'!B24 -> 4.85 | C23: ='Begr.-Rechner int. Prod.'!C24 -> 10 | D23: =IF(ISERROR(C23*B23),0,C23*B23) -> 48.5 | E23: ='Begr.-Rechner int. Prod.'!E24 -> 0 | F23: =IF(ISERROR(E23*B23),0,(E23*B23)) -> 0 | G23: =IF(ISERROR(E23/C23),0,(E23/C23)) -> 0 | H23: =IF(ISERROR($I$2*E23),0,($I$2*E23)) -> 0 | I23: Kreuzblütler | M23: nein | N23: ja | O23: =IF(E23>0,"ja","nein") -> nein | P23: =IF(O23="ja",I23,"") | V23: =IF(AND(O23="ja",N23="ja"),1,"")
A24: Linse | B24: ='Begr.-Rechner int. Prod.'!B25 -> 5.51 | C24: ='Begr.-Rechner int. Prod.'!C25 -> 90 | D24: =IF(ISERROR(C24*B24),0,C24*B24) -> 495.9 | E24: ='Begr.-Rechner int. Prod.'!E25 -> 0 | F24: =IF(ISERROR(E24*B24),0,(E24*B24)) -> 0 | G24: =IF(ISERROR(E24/C24),0,(E24/C24)) -> 0 | H24: =IF(ISERROR($I$2*E24),0,($I$2*E24)) -> 0 | I24: Leguminose | M24: nein | N24: ja | O24: =IF(E24>0,"ja","nein") -> nein | P24: =IF(O24="ja",I24,"") | V24: =IF(AND(O24="ja",N24="ja"),1,"")
A25: Luzerne | B25: ='Begr.-Rechner int. Prod.'!B26 -> 7.91 | C25: ='Begr.-Rechner int. Prod.'!C26 -> 25 | D25: =IF(ISERROR(C25*B25),0,C25*B25) -> 197.75 | E25: ='Begr.-Rechner int. Prod.'!E26 -> 0 | F25: =IF(ISERROR(E25*B25),0,(E25*B25)) -> 0 | G25: =IF(ISERROR(E25/C25),0,(E25/C25)) -> 0 | H25: =IF(ISERROR($I$2*E25),0,($I$2*E25)) -> 0 | I25: Leguminose | M25: nein | N25: ja | O25: =IF(E25>0,"ja","nein") -> nein | P25: =IF(O25="ja",I25,"") | V25: =IF(AND(O25="ja",N25="ja"),1,"")
A26: Meliorationsrettich | B26: ='Begr.-Rechner int. Prod.'!B27 -> 7.8 | C26: ='Begr.-Rechner int. Prod.'!C27 -> 8 | D26: =IF(ISERROR(C26*B26),0,C26*B26) -> 62.4 | E26: ='Begr.-Rechner int. Prod.'!E27 -> 0 | F26: =IF(ISERROR(E26*B26),0,(E26*B26)) -> 0 | G26: =IF(ISERROR(E26/C26),0,(E26/C26)) -> 0 | H26: =IF(ISERROR($I$2*E26),0,($I$2*E26)) -> 0 | I26: Kreuzblütler | M26: nein | N26: ja | O26: =IF(E26>0,"ja","nein") -> nein | P26: =IF(O26="ja",I26,"") | V26: =IF(AND(O26="ja",N26="ja"),1,"")
... A54: Zwerghirse | B54: ='Begr.-Rechner int. Prod.'!B55 -> 5.83 | C54: ='Begr.-Rechner int. Prod.'!C55 -> 15 | D54: =IF(ISERROR(C54*B54),0,C54*B54) -> 87.45 | E54: ='Begr.-Rechner int. Prod.'!E55 -> 0 | F54: =IF(ISERROR(E54*B54),0,(E54*B54)) -> 0 | G54: =IF(ISERROR(E54/C54),0,(E54/C54)) -> 0 | H54: =IF(ISERROR($I$2*E54),0,($I$2*E54)) -> 0 | I54: Gräser | M54: nein | N54: nein | O54: =IF(E54>0,"ja","nein") -> nein | P54: =IF(O54="ja",I54,"") | V54: =IF(AND(O54="ja",N54="ja"),1,"")
A55: eigene Kultur 1 | B55: ='Begr.-Rechner int. Prod.'!B56 -> 0 | C55: ='Begr.-Rechner int. Prod.'!C56 -> 0 | D55: =IF(ISERROR(C55*B55),0,C55*B55) -> 0 | E55: ='Begr.-Rechner int. Prod.'!E56 -> 0 | F55: =IF(ISERROR(E55*B55),0,(E55*B55)) -> 0 | G55: =IF(ISERROR(E55/C55),0,(E55/C55)) -> 0 | H55: =IF(ISERROR($I$2*E55),0,($I$2*E55)) -> 0 | I55: =IF(AND('Begr.-Rechner int. Prod.'!I56="",O55="ja"),"keine Angabe",'Begr.-Rechner int. Prod.'!I56) -> 0 | M55: =IF('Begr.-Rechner int. Prod.'!$N56="","nein",IF('Begr.-Rechner int. Prod.'!$N56<>"","ja")) -> nein | N55: =IF(AND(O55="ja",'Begr.-Rechner int. Prod.'!I56<>""),'Begr.-Rechner int. Prod.'!L56,"") | O55: =IF(E55>0,"ja","nein") -> nein | P55: =IF(AND(O55="ja",I55<>"keine Angabe"),I55,IF(AND(O55="ja",I55="keine Angabe"),"","")) | V55: =IF(AND(O55="ja",N55="ja"),1,"")
A56: eigene Kultur 2 | B56: ='Begr.-Rechner int. Prod.'!B57 -> 0 | C56: ='Begr.-Rechner int. Prod.'!C57 -> 0 | D56: =IF(ISERROR(C56*B56),0,C56*B56) -> 0 | E56: ='Begr.-Rechner int. Prod.'!E57 -> 0 | F56: =IF(ISERROR(E56*B56),0,(E56*B56)) -> 0 | G56: =IF(ISERROR(E56/C56),0,(E56/C56)) -> 0 | H56: =IF(ISERROR($I$2*E56),0,($I$2*E56)) -> 0 | I56: =IF(AND('Begr.-Rechner int. Prod.'!I57="",O56="ja"),"keine Angabe",'Begr.-Rechner int. Prod.'!I57) -> 0 | M56: =IF('Begr.-Rechner int. Prod.'!$N57="","nein",IF('Begr.-Rechner int. Prod.'!$N57<>"","ja")) -> nein | N56: =IF(AND(O56="ja",'Begr.-Rechner int. Prod.'!I57<>""),'Begr.-Rechner int. Prod.'!L57,"") | O56: =IF(E56>0,"ja","nein") -> nein | P56: =IF(AND(O56="ja",I56<>"keine Angabe"),I56,IF(AND(O56="ja",I56="keine Angabe"),"","")) | V56: =IF(AND(O56="ja",N56="ja"),1,"")
A57: eigene Kultur 3 | B57: ='Begr.-Rechner int. Prod.'!B58 -> 0 | C57: ='Begr.-Rechner int. Prod.'!C58 -> 0 | D57: =IF(ISERROR(C57*B57),0,C57*B57) -> 0 | E57: ='Begr.-Rechner int. Prod.'!E58 -> 0 | F57: =IF(ISERROR(E57*B57),0,(E57*B57)) -> 0 | G57: =IF(ISERROR(E57/C57),0,(E57/C57)) -> 0 | H57: =IF(ISERROR($I$2*E57),0,($I$2*E57)) -> 0 | I57: =IF(AND('Begr.-Rechner int. Prod.'!I58="",O57="ja"),"keine Angabe",'Begr.-Rechner int. Prod.'!I58) -> 0 | M57: =IF('Begr.-Rechner int. Prod.'!$N58="","nein",IF('Begr.-Rechner int. Prod.'!$N58<>"","ja")) -> nein | N57: =IF(AND(O57="ja",'Begr.-Rechner int. Prod.'!I58<>""),'Begr.-Rechner int. Prod.'!L58,"") | O57: =IF(E57>0,"ja","nein") -> nein | P57: =IF(AND(O57="ja",I57<>"keine Angabe"),I57,IF(AND(O57="ja",I57="keine Angabe"),"","")) | V57: =IF(AND(O57="ja",N57="ja"),1,"")
A58: eigene Kultur 4 | B58: ='Begr.-Rechner int. Prod.'!B59 -> 0 | C58: ='Begr.-Rechner int. Prod.'!C59 -> 0 | D58: =IF(ISERROR(C58*B58),0,C58*B58) -> 0 | E58: ='Begr.-Rechner int. Prod.'!E59 -> 0 | F58: =IF(ISERROR(E58*B58),0,(E58*B58)) -> 0 | G58: =IF(ISERROR(E58/C58),0,(E58/C58)) -> 0 | H58: =IF(ISERROR($I$2*E58),0,($I$2*E58)) -> 0 | I58: =IF(AND('Begr.-Rechner int. Prod.'!I59="",O58="ja"),"keine Angabe",'Begr.-Rechner int. Prod.'!I59) -> 0 | M58: =IF('Begr.-Rechner int. Prod.'!$N59="","nein",IF('Begr.-Rechner int. Prod.'!$N59<>"","ja")) -> nein | N58: =IF(AND(O58="ja",'Begr.-Rechner int. Prod.'!I59<>""),'Begr.-Rechner int. Prod.'!L59,"") | O58: =IF(E58>0,"ja","nein") -> nein | P58: =IF(AND(O58="ja",I58<>"keine Angabe"),I58,IF(AND(O58="ja",I58="keine Angabe"),"","")) | V58: =IF(AND(O58="ja",N58="ja"),1,"")
A59: eigene Kultur 5 | B59: ='Begr.-Rechner int. Prod.'!B60 -> 0 | C59: ='Begr.-Rechner int. Prod.'!C60 -> 0 | D59: =IF(ISERROR(C59*B59),0,C59*B59) -> 0 | E59: ='Begr.-Rechner int. Prod.'!E60 -> 0 | F59: =IF(ISERROR(E59*B59),0,(E59*B59)) -> 0 | G59: =IF(ISERROR(E59/C59),0,(E59/C59)) -> 0 | H59: =IF(ISERROR($I$2*E59),0,($I$2*E59)) -> 0 | I59: =IF(AND('Begr.-Rechner int. Prod.'!I60="",O59="ja"),"keine Angabe",'Begr.-Rechner int. Prod.'!I60) -> 0 | M59: =IF('Begr.-Rechner int. Prod.'!$N60="","nein",IF('Begr.-Rechner int. Prod.'!$N60<>"","ja")) -> nein | N59: =IF(AND(O59="ja",'Begr.-Rechner int. Prod.'!I60<>""),'Begr.-Rechner int. Prod.'!L60,"") | O59: =IF(E59>0,"ja","nein") -> nein | P59: =IF(AND(O59="ja",I59<>"keine Angabe"),I59,IF(AND(O59="ja",I59="keine Angabe"),"","")) | V59: =IF(AND(O59="ja",N59="ja"),1,"")
A60: eigene Kultur 6 | B60: ='Begr.-Rechner int. Prod.'!B61 -> 0 | C60: ='Begr.-Rechner int. Prod.'!C61 -> 0 | D60: =IF(ISERROR(C60*B60),0,C60*B60) -> 0 | E60: ='Begr.-Rechner int. Prod.'!E61 -> 0 | F60: =IF(ISERROR(E60*B60),0,(E60*B60)) -> 0 | G60: =IF(ISERROR(E60/C60),0,(E60/C60)) -> 0 | H60: =IF(ISERROR($I$2*E60),0,($I$2*E60)) -> 0 | I60: =IF(AND('Begr.-Rechner int. Prod.'!I61="",O60="ja"),"keine Angabe",'Begr.-Rechner int. Prod.'!I61) -> 0 | M60: =IF('Begr.-Rechner int. Prod.'!$N61="","nein",IF('Begr.-Rechner int. Prod.'!$N61<>"","ja")) -> nein | N60: =IF(AND(O60="ja",'Begr.-Rechner int. Prod.'!I61<>""),'Begr.-Rechner int. Prod.'!L61,"") | O60: =IF(E60>0,"ja","nein") -> nein | P60: =IF(AND(O60="ja",I60<>"keine Angabe"),I60,IF(AND(O60="ja",I60="keine Angabe"),"","")) | V60: =IF(AND(O60="ja",N60="ja"),1,"")
A61: eigene Kultur 7 | B61: ='Begr.-Rechner int. Prod.'!B62 -> 0 | C61: ='Begr.-Rechner int. Prod.'!C62 -> 0 | D61: =IF(ISERROR(C61*B61),0,C61*B61) -> 0 | E61: ='Begr.-Rechner int. Prod.'!E62 -> 0 | F61: =IF(ISERROR(E61*B61),0,(E61*B61)) -> 0 | G61: =IF(ISERROR(E61/C61),0,(E61/C61)) -> 0 | H61: =IF(ISERROR($I$2*E61),0,($I$2*E61)) -> 0 | I61: =IF(AND('Begr.-Rechner int. Prod.'!I62="",O61="ja"),"keine Angabe",'Begr.-Rechner int. Prod.'!I62) -> 0 | M61: =IF('Begr.-Rechner int. Prod.'!$N62="","nein",IF('Begr.-Rechner int. Prod.'!$N62<>"","ja")) -> nein | N61: =IF(AND(O61="ja",'Begr.-Rechner int. Prod.'!I62<>""),'Begr.-Rechner int. Prod.'!L62,"") | O61: =IF(E61>0,"ja","nein") -> nein | P61: =IF(AND(O61="ja",I61<>"keine Angabe"),I61,IF(AND(O61="ja",I61="keine Angabe"),"","")) | V61: =IF(AND(O61="ja",N61="ja"),1,"")

Sheet Begr.-Rechner BIO
A1: Jahr 2024 | B1: Sie können hier den entsprechenden Preis eingeben - die vorausgefüllten Werte entsprechen Durchschnittswerten laut Preisspanne gem. Begrünungstabelle 2021 | C1: angeführte Werte sind Durchschnitts - bzw. Beispielwerte HIER können auch eigene Werte eingegeben werden | E1: MISCHUNGSBERECHNUNG | I1: =IF(OR($I$2="",$I$2=0),"bitte geben Sie HIER die Begrünungsfläche in ha an","Fläche in ha") -> bitte geben Sie HIER die Begrünungsfläche in ha an | J1: Menge in kg/ha geplant | K1: Kosten je ha in € | L1: Mischungs-anteil in % (=relative Saatstärke) | M1: ZUR ZUSAMMENFASSUNG ►
B2: Richtpreis/kg | C2: Reinsaat-menge | D2: Kosten/ha bei Reinsaat | E2: Menge/ha | F2: Kosten/ha in € | G2: Saatstärke in % der Reinsaat | H2: Menge in kg | J2: =SUM(E4:E38) -> 0 | K2: =SUM(F4:F38) -> 0 | L2: =SUM(G4:G38) -> 0
A3: Einzelkulturen | E3: ▼ | I3: Pflanzenfamilie | J3: relativer Leguminosenanteil: | L3: =IF('Zusammenfassung BIO'!$H$4=0,"0 %",'Zusammenfassung BIO'!H4) | M3: =IF(AND(L3>0.6,L3<>"0 %",J2>0),"ACHTUNG Vorfruchtwirkung beachten: ungenutzte ZWF > 60 % Leg.: 20 kg N genutzte ZWF > 60% Leg.: 10 kg N","")
A4: Alexandrinerklee BIO | B4: 5.66 | C4: 25 | D4: =IF(ISERROR(C4*B4),0,C4*B4) -> 141.5 | F4: =IF(ISERROR(E4*B4),0,(E4*B4)) -> 0 | G4: =IF(ISERROR(E4/C4),0,(E4/C4)) -> 0 | H4: =IF(ISERROR(ROUND($I$2*E4,1)),0,ROUND($I$2*E4,1)) -> 0 | I4: Leguminose | J4: Düngeobergrenzen im Herbst gem. NAPV:
A5: Buchweizen BIO | B5: 2.76 | C5: 70 | D5: =IF(ISERROR(C5*B5),0,C5*B5) -> 193.2 | F5: =IF(ISERROR(E5*B5),0,(E5*B5)) -> 0 | G5: =IF(ISERROR(E5/C5),0,(E5/C5)) -> 0 | H5: =IF(ISERROR(ROUND($I$2*E5,1)),0,ROUND($I$2*E5,1)) -> 0 | I5: Knöterichgewächse
A6: Einjähriges Raygras BIO | B6: 3.74 | C6: 40 | D6: =IF(ISERROR(C6*B6),0,C6*B6) -> 149.6 | F6: =IF(ISERROR(E6*B6),0,(E6*B6)) -> 0 | G6: =IF(ISERROR(E6/C6),0,(E6/C6)) -> 0 | H6: =IF(ISERROR(ROUND($I$2*E6,1)),0,ROUND($I$2*E6,1)) -> 0 | I6: Gräser | J6: =IF(L6="","Wirtschaftsdüngerart auswählen ►","genutzte Wirtschaftsdüngerart:") -> Wirtschaftsdüngerart auswählen ►
A7: Englisches Raygras BIO | B7: 6.26 | C7: 30 | D7: =IF(ISERROR(C7*B7),0,C7*B7) -> 187.8 | F7: =IF(ISERROR(E7*B7),0,(E7*B7)) -> 0 | G7: =IF(ISERROR(E7/C7),0,(E7/C7)) -> 0 | H7: =IF(ISERROR(ROUND($I$2*E7,1)),0,ROUND($I$2*E7,1)) -> 0 | I7: Gräser
A8: Esparsette BIO | B8: 7.59 | C8: 180 | D8: =IF(ISERROR(C8*B8),0,C8*B8) -> 1366.2 | F8: =IF(ISERROR(E8*B8),0,(E8*B8)) -> 0 | G8: =IF(ISERROR(E8/C8),0,(E8/C8)) -> 0 | H8: =IF(ISERROR(ROUND($I$2*E8,1)),0,ROUND($I$2*E8,1)) -> 0 | I8: Leguminose | J8: Düngeobergenze gem. NAPV: | L8: =IF(L6="",CONCATENATE('BIO (2)'!T13," kg N ab Lager"),CONCATENATE('BIO (2)'!T13," kg N ab Lager (",'BIO (2)'!U13," kg N jw)","")) -> 60 kg N ab Lager
A9: Futtererbse BIO | B9: 1.62 | C9: 160 | D9: =IF(ISERROR(C9*B9),0,C9*B9) -> 259.2 | F9: =IF(ISERROR(E9*B9),0,(E9*B9)) -> 0 | G9: =IF(ISERROR(E9/C9),0,(E9/C9)) -> 0 | H9: =IF(ISERROR(ROUND($I$2*E9,1)),0,ROUND($I$2*E9,1)) -> 0 | I9: Leguminose
A10: Hanf BIO | B10: 12.18 | C10: 40 | D10: =IF(ISERROR(C10*B10),0,C10*B10) -> 487.2 | F10: =IF(ISERROR(E10*B10),0,(E10*B10)) -> 0 | G10: =IF(ISERROR(E10/C10),0,(E10/C10)) -> 0 | H10: =IF(ISERROR(ROUND($I$2*E10,1)),0,ROUND($I$2*E10,1)) -> 0 | I10: Hanfgewächse | J10: Düngeobergenze in Nitratrisikogebieten gem. NAPV Anlage 5: | L10: =IF(L6="",CONCATENATE('BIO (2)'!T12," kg N ab Lager"),CONCATENATE('BIO (2)'!T12," kg N ab Lager (",'BIO (2)'!U12," kg N jw)","")) -> 60 kg N ab Lager
A11: Hirse BIO | B11: 4.25 | C11: 15 | D11: =IF(ISERROR(C11*B11),0,C11*B11) -> 63.75 | F11: =IF(ISERROR(E11*B11),0,(E11*B11)) -> 0 | G11: =IF(ISERROR(E11/C11),0,(E11/C11)) -> 0 | H11: =IF(ISERROR(ROUND($I$2*E11,1)),0,ROUND($I$2*E11,1)) -> 0 | I11: Gräser
A12: Hornklee BIO | B12: 21.3 | C12: 20 | D12: =IF(ISERROR(C12*B12),0,C12*B12) -> 426 | F12: =IF(ISERROR(E12*B12),0,(E12*B12)) -> 0 | G12: =IF(ISERROR(E12/C12),0,(E12/C12)) -> 0 | H12: =IF(ISERROR(ROUND($I$2*E12,1)),0,ROUND($I$2*E12,1)) -> 0 | I12: Leguminose | J12: Herbstdüngegrenze von 60 kg N ab Lager ab der Ernte der letzten Hauptkultur beachten
A13: Inkarnatklee BIO | B13: 4.48 | C13: 30 | D13: =IF(ISERROR(C13*B13),0,C13*B13) -> 134.4 | F13: =IF(ISERROR(E13*B13),0,(E13*B13)) -> 0 | G13: =IF(ISERROR(E13/C13),0,(E13/C13)) -> 0 | H13: =IF(ISERROR(ROUND($I$2*E13,1)),0,ROUND($I$2*E13,1)) -> 0 | I13: Leguminose
A14: Italienisches Raygras BIO | B14: 3.31 | C14: 40 | D14: =IF(ISERROR(C14*B14),0,C14*B14) -> 132.4 | F14: =IF(ISERROR(E14*B14),0,(E14*B14)) -> 0 | G14: =IF(ISERROR(E14/C14),0,(E14/C14)) -> 0 | H14: =IF(ISERROR(ROUND($I$2*E14,1)),0,ROUND($I$2*E14,1)) -> 0 | I14: Gräser
A15: Kresse BIO | B15: 11.5 | C15: 10 | D15: =IF(ISERROR(C15*B15),0,C15*B15) -> 115 | F15: =IF(ISERROR(E15*B15),0,(E15*B15)) -> 0 | G15: =IF(ISERROR(E15/C15),0,(E15/C15)) -> 0 | H15: =IF(ISERROR(ROUND($I$2*E15,1)),0,ROUND($I$2*E15,1)) -> 0 | I15: Kreuzblütler
A16: Leindotter BIO | B16: 8.87 | C16: 10 | D16: =IF(ISERROR(C16*B16),0,C16*B16) -> 88.7 | F16: =IF(ISERROR(E16*B16),0,(E16*B16)) -> 0 | G16: =IF(ISERROR(E16/C16),0,(E16/C16)) -> 0 | H16: =IF(ISERROR(ROUND($I$2*E16,1)),0,ROUND($I$2*E16,1)) -> 0 | I16: Kreuzblütler
A17: Linse BIO | B17: 5.31 | C17: 90 | D17: =IF(ISERROR(C17*B17),0,C17*B17) -> 477.9 | F17: =IF(ISERROR(E17*B17),0,(E17*B17)) -> 0 | G17: =IF(ISERROR(E17/C17),0,(E17/C17)) -> 0 | H17: =IF(ISERROR(ROUND($I$2*E17,1)),0,ROUND($I$2*E17,1)) -> 0 | I17: Leguminose
A18: Luzerne BIO | B18: 9.73 | C18: 25 | D18: =IF(ISERROR(C18*B18),0,C18*B18) -> 243.25 | F18: =IF(ISERROR(E18*B18),0,(E18*B18)) -> 0 | G18: =IF(ISERROR(E18/C18),0,(E18/C18)) -> 0 | H18: =IF(ISERROR(ROUND($I$2*E18,1)),0,ROUND($I$2*E18,1)) -> 0 | I18: Leguminose
