Workbook
Name __xlnm.Print_Area: Betrieb!$A$1:$D$20
Name __xlnm.Print_Area: Ergebnis!$A$1:$F$55
Name __xlnm.Print_Area: Hofdung!$A$1:$P$34
Name __xlnm.Print_Area: Info!$A$1:$C$37
Name __xlnm.Print_Area: Mineral!$A$1:$J$28
Name __xlnm.Print_Area: N_Bedarf!$C$1:$S$31
Name __xlnm.Print_Area: Organ__Dü!$B$1:$N$27
Name __xlnm.Print_Area: Pfl_Schutz!$A$1:$F$36
Name __xlnm.Print_Area: PSM_Bestände!#REF!
Name __xlnm.Print_Area: Schw_Geflügel!$A$1:$D$103
Name __xlnm.Print_Area: 'System I'!$A$1:$U$22
Name __xlnm.Print_Area: Tiere!$B$1:$X$35
Name __xlnm.Print_Area: Betrieb!$A$1:$D$19
Name __xlnm.Print_Area_3: Ergebnis!$B$1:$F$51
Name __xlnm.Print_Area_5: Hofdung!$A$1:$P$34
Name __xlnm.Print_Area_6: Info!$A$1:$C$37
Name __xlnm.Print_Area_8: Mineral!$A$1:$J$28
Name __xlnm.Print_Area_9: N_Bedarf!$C$1:$S$32
Name _19: INDEX(PSM_Bestände!$Z$4:INDIRECT("Z"&COUNTA(PFL_Schutz_Drop_Down56[19])-COUNTBLANK(PFL_Schutz_Drop_Down56[19])+3),0,1)
Name _21: INDEX(PSM_Bestände!$Y$4:INDIRECT("Y"&COUNTA(PFL_Schutz_Drop_Down56[21])-COUNTBLANK(PFL_Schutz_Drop_Down56[21])+3),0,1)
Name _23: INDEX(PSM_Bestände!$Z$4:INDIRECT("Z"&COUNTA(PFL_Schutz_Drop_Down56[23])-COUNTBLANK(PFL_Schutz_Drop_Down56[23])+1),0,1)
Name _25: INDEX(PSM_Bestände!$AA$4:INDIRECT("AA"&COUNTA(PFL_Schutz_Drop_Down56[25])-COUNTBLANK(PFL_Schutz_Drop_Down56[25])+3),0,1)
Name _27: INDEX(PSM_Bestände!$AB$4:INDIRECT("AB"&COUNTA(PFL_Schutz_Drop_Down56[27])-COUNTBLANK(PFL_Schutz_Drop_Down56[27])+3),0,1)
Name _29: INDEX(PSM_Bestände!$AC$4:INDIRECT("AC"&COUNTA(PFL_Schutz_Drop_Down56[29])-COUNTBLANK(PFL_Schutz_Drop_Down56[29])+3),0,1)
Name _31: INDEX(PSM_Bestände!$AD$4:INDIRECT("AD"&COUNTA(PFL_Schutz_Drop_Down56[31])-COUNTBLANK(PFL_Schutz_Drop_Down56[31])+3),0,1)
Name _33: INDEX(PSM_Bestände!$AE$4:INDIRECT("AE"&COUNTA(PFL_Schutz_Drop_Down56[33])-COUNTBLANK(PFL_Schutz_Drop_Down56[33])+3),0,1)
Name _35: INDEX(PSM_Bestände!$AF$4:INDIRECT("AF"&COUNTA(PFL_Schutz_Drop_Down56[35])-COUNTBLANK(PFL_Schutz_Drop_Down56[35])+3),0,1)
Name _37: INDEX(PSM_Bestände!$AG$4:INDIRECT("AG"&COUNTA(PFL_Schutz_Drop_Down56[37])-COUNTBLANK(PFL_Schutz_Drop_Down56[37])+3),0,1)
Name _39: INDEX(PSM_Bestände!$AH$4:INDIRECT("AH"&COUNTA(PFL_Schutz_Drop_Down56[39])-COUNTBLANK(PFL_Schutz_Drop_Down56[39])+3),0,1)
Name _41: INDEX(PSM_Bestände!$AI$4:INDIRECT("AI"&COUNTA(PFL_Schutz_Drop_Down56[41])-COUNTBLANK(PFL_Schutz_Drop_Down56[41])+3),0,1)
Name _43: INDEX(PSM_Bestände!$AJ$4:INDIRECT("AJ"&COUNTA(PFL_Schutz_Drop_Down56[43])-COUNTBLANK(PFL_Schutz_Drop_Down56[43])+3),0,1)
Name _45: INDEX(PSM_Bestände!$AK$4:INDIRECT("AK"&COUNTA(PFL_Schutz_Drop_Down56[45])-COUNTBLANK(PFL_Schutz_Drop_Down56[45])+3),0,1)
Name _47: INDEX(PSM_Bestände!$AL$4:INDIRECT("AL"&COUNTA(PFL_Schutz_Drop_Down56[47])-COUNTBLANK(PFL_Schutz_Drop_Down56[47])+3),0,1)
Name _49: INDEX(PSM_Bestände!$AM$4:INDIRECT("AM"&COUNTA(PFL_Schutz_Drop_Down56[49])-COUNTBLANK(PFL_Schutz_Drop_Down56[49])+3),0,1)
Name _51: INDEX(PSM_Bestände!$AN$4:INDIRECT("AN"&COUNTA(PFL_Schutz_Drop_Down56[51])-COUNTBLANK(PFL_Schutz_Drop_Down56[51])+3),0,1)
Name _53: INDEX(PSM_Bestände!$AO$4:INDIRECT("AO"&COUNTA(PFL_Schutz_Drop_Down56[53])-COUNTBLANK(PFL_Schutz_Drop_Down56[53])+3),0,1)
Name _55: INDEX(PSM_Bestände!$AP$4:INDIRECT("AP"&COUNTA(PFL_Schutz_Drop_Down56[55])-COUNTBLANK(PFL_Schutz_Drop_Down56[55])+3),0,1)
Name _57: INDEX(PSM_Bestände!$AQ$4:INDIRECT("AQ"&COUNTA(PFL_Schutz_Drop_Down56[57])-COUNTBLANK(PFL_Schutz_Drop_Down56[57])+3),0,1)
Name _59: INDEX(PSM_Bestände!$AR$4:INDIRECT("AR"&COUNTA(PFL_Schutz_Drop_Down56[59])-COUNTBLANK(PFL_Schutz_Drop_Down56[59])+3),0,1)
Name _61: INDEX(PSM_Bestände!$AS$4:INDIRECT("AS"&COUNTA(PFL_Schutz_Drop_Down56[61])-COUNTBLANK(PFL_Schutz_Drop_Down56[61])+3),0,1)
Name _63: INDEX(PSM_Bestände!$AT$4:INDIRECT("AT"&COUNTA(PFL_Schutz_Drop_Down56[63])-COUNTBLANK(PFL_Schutz_Drop_Down56[63])+3),0,1)
Name _65: INDEX(PSM_Bestände!$AU$4:INDIRECT("AU"&COUNTA(PFL_Schutz_Drop_Down56[65])-COUNTBLANK(PFL_Schutz_Drop_Down56[65])+3),0,1)
Name _67: INDEX(PSM_Bestände!$AV$4:INDIRECT("AV"&COUNTA(PFL_Schutz_Drop_Down56[67])-COUNTBLANK(PFL_Schutz_Drop_Down56[67])+3),0,1)
Name _69: INDEX(PSM_Bestände!$AW$4:INDIRECT("AW"&COUNTA(PFL_Schutz_Drop_Down56[69])-COUNTBLANK(PFL_Schutz_Drop_Down56[69])+3),0,1)
Name _71: INDEX(PSM_Bestände!$AX$4:INDIRECT("AX"&COUNTA(PFL_Schutz_Drop_Down56[71])-COUNTBLANK(PFL_Schutz_Drop_Down56[71])+3),0,1)
Name _73: INDEX(PSM_Bestände!$AY$4:INDIRECT("AY"&COUNTA(PFL_Schutz_Drop_Down56[73])-COUNTBLANK(PFL_Schutz_Drop_Down56[73])+3),0,1)
Name _75: INDEX(PSM_Bestände!$AZ$4:INDIRECT("AZ"&COUNTA(PFL_Schutz_Drop_Down56[75])-COUNTBLANK(PFL_Schutz_Drop_Down56[75])+3),0,1)
Name Auswahl_Kulturen: Ertragsermittlung!$R$3:$R$15
Name Betriebskulturen: N_Bedarf!$B$5:$B$25
Name Liste_BIO_WD_Auswahl: INDEX(#REF!:INDIRECT("T"&COUNTA(#REF!)-COUNTBLANK(#REF!)+3),0,1)
Name Liste_Ertrag: N_Bedarf!$AJ$29:$AJ$35
Name Liste_GL_Kulturen: N_Bedarf!$AM$268:$AM$285
Name Liste_Grünland: N_Bedarf!$AK$29:$AK$31
Name Liste_Handelsdünger_A10: INDEX(Mineral!$AS$2:INDIRECT("AS"&COUNTA(Liste_Handelsünger[A10])-COUNTBLANK(Liste_Handelsünger[A10])+2),0,1)
Name Liste_Handelsdünger_A11: INDEX(Mineral!$AU$2:INDIRECT("AU"&COUNTA(Liste_Handelsünger[A11])-COUNTBLANK(Liste_Handelsünger[A11])+2),0,1)
Name Liste_Handelsdünger_A12: INDEX(Mineral!$AW$2:INDIRECT("AW"&COUNTA(Liste_Handelsünger[A12])-COUNTBLANK(Liste_Handelsünger[A12])+2),0,1)
Name Liste_Handelsdünger_A13: INDEX(Mineral!$AY$2:INDIRECT("AY"&COUNTA(Liste_Handelsünger[A13])-COUNTBLANK(Liste_Handelsünger[A13])+2),0,1)
Name Liste_Handelsdünger_A14: INDEX(Mineral!$BA$2:INDIRECT("BA"&COUNTA(Liste_Handelsünger[A14])-COUNTBLANK(Liste_Handelsünger[A14])+2),0,1)
Name Liste_Handelsdünger_A15: INDEX(Mineral!$BC$2:INDIRECT("BC"&COUNTA(Liste_Handelsünger[A15])-COUNTBLANK(Liste_Handelsünger[A15])+2),0,1)
Name Liste_Handelsdünger_A16: INDEX(Mineral!$BE$2:INDIRECT("BE"&COUNTA(Liste_Handelsünger[A16])-COUNTBLANK(Liste_Handelsünger[A16])+2),0,1)

Sheet Info
A1: LK-Düngerrechner für betriebsbezogene Aufzeichnungen | E1: Updates sind erhältlich im Internet unter: | G1: ►
C2: CC-Version vom 25. April 2022 | E2: http://www.ooe.lko.at/ | I2: Änderungen | J2: Versionshinweise
A3: Programmbeschreibung | I3: 42044 | J3: veröffentlicht
A4: Dieses Excel-Programm berechnet den gesamtbetrieblichen Nährstoffanfall und stellt diesen dem Stickstoff- und Phosphorbedarf der Kulturen gegenüber. Dies ist in der Nitrat-Aktionsprogramm-Verordnung ab 2018 für alle landwirtschaftlichen Betriebe vorgeschrieben - Ausnahmen siehe nächste Seite. | E4: Nutzungshinweise: | I4: 42223 | J4: System Immergrün neue Berechnung
E5: Es wird von den Landwirtschaftskammern, dem Ersteller und dem Agrarnet keinerlei Haftung bezüglich Softwareproblemen, Berechnungsfehler usw. und eventuellen Sanktionen durch die AMA wegen fehlerhafter Berechnungen übernommen. | I5: 42241 | J5: Flächenbezug (GVE/ha und P/ha) korrigiert
I6: 42377 | J6: Weideblatt eingefügt
I7: 42429 | J7: Formatierungen korrigiert (N-Bedarf, Syst. I.)
A8: Häufige Fragen! | E8: Trotz sorgfältiger Prüfung aller Tabellen und Rechnungsschritte sind Fehler nicht ausgeschlossen, das Ergebnis ist ohne Gewähr, es wird keinerlei Haftung übernommen und es lässt sich durch diese Berechnungen kein Anspruch auf Einhaltung der ÖPUL-Richtlinien ableiten. | J8: fehlende P-Werte Feldfutter
A9: Blattschutz | I9: 42432 | J9: Neu! Düngeplanung
A10: Die Zellen in dieser Excel-Datei sind bis auf die hellgelben und hellgrünen Zellen gesperrt, damit Daten, Berechnungsformeln und Verknüpfungen geschützt sind. Achtung - auch das Verschieben von Zellen führt zu Störungen. Die Durchrechnung wird in so einem Fall unmöglich und es taucht überall das Fehlerzeichen " # Bezug! " auf! | I10: 42436 | J10: kleine Fehlerkorrekturen zB N-Bedarf GL etc…
I11: 42445 | J11: Listenfelder verbessert
E12: Das LK-Düngeberechnungsprogramm soll nur von Personen verwendet werden, die über den aktuellen Stand der Richtlinien geschult sind. Die Tabellenblätter sollen bei Kontrollen nur in Papierform vorgelegt werden. Falsche Ergebnisse können auch durch fehlerhafte Eingaben auftreten! | I12: 42452 | J12: neu - Junghennenaufzucht mit Faktor 1,7
I13: 42488 | J13: Düngewerte für 2015 und 2016
A14: Pass- oder Kennwort? | I14: 42503 | J14: Düngeplanung Phosphormeldung korrigiert
A15: Es wird zum Gebrauch dieses Programmes kein Passwort oder Kennwort benötigt. Sollten sich keine Eingaben machen lassen und ein Kennwort verlangt werden, ist die Datei vielleicht schreibgeschützt oder es sind mehrere Tabellenblätter markiert. Nach dem Aufheben des Schreibschutzes oder der Mehrfach-Markierungen müsste eine Bearbeitung wieder möglich sein. | I15: 42513 | J15: Weideblatt Zellen freigegeben
I16: 42559 | J16: Ergänzungen in der Beschreibung
I17: 42859 | J17: Neue Düngewerte aus SGD 7. Auflage
E18: Fragen und Anregungen an: | G18: simon.kriegner-schramml@lk-ooe.at | I18: 43158 | J18: DR 20171024 ohne Makros aktualisiert
E19: Steiermark: heinrich.holzner@lk-stmk.at | G19: NÖ: josef.springer@lk-noe.at | I19: 43164 | J19: System I. Datumsgültigkeit korrigiert
A20: Drucken | I20: 43363 | J20: alle Düngezahlen mit AMA abgestimmt!
A21: Es sind auf allen Tabellenblättern Druckbereiche festgelegt. Diese können über die Befehle "Druckbereich festlegen oder aufheben" verändert werden. Diese Befehle sind im Menü Seitenlayout bzw. im alten Excel im Menü Datei / Druckbereich zu finden. | E21: Hinweise zur Orientierung | J21: System Immergrün überarbeitet u. korrigiert
E22: Stellen Sie auf den Blättern über das Menü Ansicht > Zoom jenen Zoomfaktor ein, der Ihnen ein gutes Arbeiten erlaubt. | I22: 43411 | J22: phosphorreduzierte Fütterung aktiviert
I23: 43472 | J23: optische Korrekturen
A24: Daten ins nächste Jahr übertragen? | F24: Angaben können nur in den gelben Zellen eingetragen werden | I24: 43803 | J24: Fehlermeldung bei System I. geändert
A25: Mit dieser Exceldatei können die Daten nicht in ein neues Aufzeichnungsjahr übernommen werden. Es muss jedes Jahr eine neue Excel-Datei angelegt werden. Es ist ratsam, eine neue aktualisierte Datei aus dem Internet herunterzuladen. Tier- und Flächenlisten aus der alten Datei können durch Kopieren und Einfügen in die neue Datei übertragen werden. | F25: die grünen Zellen sind Auswahlzellen, Sie können Tiere, Dünger, Kulturen etc. über ein Dropdown-Liste auswählen. Bei Eingabe einzelner Buchtsaben wird bei anschließendem Öffnen des DropDown Menüs die Auswahlmöglichkeit reduziert. Bei Auswahl von Tieren geschieht eine abgestufte Auswahl mittels Tierart und Tierunterkategorie. | I25: 43844 | J25: Sämereienvermehrung korrigiert
I26: 43881 | J26: NEU: WD-Vertrag und Ertragsermittlung
I27: 44032 | J27: NEU: PSM Tabelle aktualisiert + PSM Bestände neu
F28: in den blauen Zellen sind Berechnungsergebnisse | I28: 44222 | J28: Anpassung GVE Zahl Junghennenaufzucht; Überarbeitung System Immergrün; Formeländerung Weideblatt, PW-Wechsel
A29: Fehlermeldungen | E29: Fehlerbehebung
A30: ={#REF!} -> #REF! | B30: Wichtige Zellen wurden gelöscht oder verschoben, das Programm kann den Bezug zu diesen Zellen nicht mehr herstellen und daher nicht mehr berechnen. | E30: Störungen durch Verschieben von Zellen können nur mit dem Bearbeitungs-Befehl "Rückgängig" korrigiert werden! Sobald gespeichert wurde, ist die Datei nicht mehr korrigierbar und muss neu angelegt werden. Machen Sie daher gelegentlich Sicherungskopien von ihrer Datei. Tauchen in Berechnungsfeldern Fehlerzeichen, wie #NV (= nicht vorhanden) auf, kann die Ursache im Fehlen oder Änderungen von Grunddaten liegen. Wählen Sie die zugrunde liegenden Kulturen, Dünger etc. noch einmal neu aus und der Fehler wird meist wieder behoben sein. | I30: 12.10.2021 + 04.11.2021 + 10.12.2021 + 25.04.2022 | J30: Ergänzung bedingter Formatierungen - Bedienungsroutine; Drop Down mit Suchfunktion
A32: ={#VALUE!} -> #VALUE! | B32: Es wurden ungültige Werte eingegeben, wie zB. 10 Stück, Hektar, Kilogramm usw. Excel kann nur mit Zahlen rechnen, nicht aber mit Wörtern wie Stück usw. Es dürfen nur Zahlen bei Mengenangaben eingegeben werden! Wird statt einem Komma ein Punkt geschrieben, wird aus dieser Zahl ein Datum!
A34: ={#N/A} -> #N/A | B34: #NV bedeutet "Nicht vorhanden", das heißt es fehlen Angaben, oder sind wieder gelöscht oder verändert worden und sind jetzt nicht mehr vorhanden!

Sheet Betrieb
A1: LK-Düngerrechner für ÖPUL und die gesetzliche Aufzeichnungspflicht 2018 - 2022 | G1: ◄ | H1: ►
A3: Betriebs-Nr.: | D3: Erntejahr
A4: Name | D4: 2022
A5: Strasse
A6: PLZ + Ort
A8: Teilnahme am ÖPUL 2015 | D8: JA | F8: Gesamtbetriebliche Aufzeichnungen laut Nitrat-Aktionsprogramm-Verordnung | J8: Kurzanleitung
A9: Teilnahme Maßnahme Bio | D9: NEIN | F9: Über die Bewirtschaftung sind ab 1. Jänner 2018 folgende Daten zu dokumentieren: 1. die Größe der landwirtschaftlichen Nutzfläche; 2. die Stickstoffmenge aus Wirtschaftsdünger nach Abzug der Stall- und Lagerverluste, die a) am Betrieb anfiel, b) an andere Betriebe abgegeben oder von anderen Betrieben übernommen wurde c) und auf der eigenen landwirtschaftlichen Nutzfläche ausgebracht wurde; 3. die auf der eigenen Nutzfläche ausgebrachte Stickstoffmenge aus allen Düngern in feldfallender und jahreswirksamer Menge; 4. der Stickstoffbedarf der angebauten Kulturen unter Berücksichtigung der Vorfruchtwirkung und der Größe der Anbaufläche. • Ausgenommen sind Betriebe: mit höchstens 15 Hektar, wenn auf weniger als 2 ha Gemüse angebaut wird und alle Betriebe deren Nutzfläche (ohne Alm) zu mehr als 90% als Dauergrünland oder Ackerfutterfläche genutzt wird. • Die Daten sind bis längstens 31. März für das jeweils vorangegangene Jahr zu dokumentieren. Abweichend davon sind in Gebieten mit verstärkten Aktionen zum Schutz der Gewässer schlagbezogene Aufzeichnungen zu führen. | J9: Füllen Sie die Tabellenblätter "Betrieb", "N-Bedarf", "Tiere", "Organ.-Dü" und "Mineral-Dü" nacheinander aus! Am Tabellenblatt "Ergebnis" werden nun alle Daten dokumentiert die laut Aktionsprogramme 2018 § 7 (5) erforderlich sind. • Bei Teilnahme am System Immergrün ist das Blatt "System I" auszufüllen. • Bei Teilnahme an der Maßnahme "Bodennahe Gülleausbringung" bitte das Tabellenblatt "Bodennah" verwenden • Die im Rahmen der Lebensmittelsicherheit vorgeschriebenen Aufzeichnungen können Sie am Tabellenblatt "Pfl_Schutz" dokumentieren. Schlagbezogene Aufzeichnungen über die Düngung sind nur bei Teilnahme an der Maßnahme "Vorbeugender Grundwasserschutz" vorgeschrieben. Dazu können Sie das kostenpflichtige EDV-Aufzeichnungsprogramm "ÖDüPlan online" verwenden. Mit diesem lassen sich alle wesentlichen Aufzeichnungen und Überprüfungen, die aufgrund der gesetzlichen Richtlinien des neuen GAP (Greening) und ÖPUL 2015 erforderlich sind durchführen. Erreichbar unter folgendem Link:
A10: Teilnahme vorbeugender Grundwasserschutz Grünland in Salzburg | D10: NEIN
A11: Meine Fruchtfolge ist stickstoffzehrend! * | D11: JA
A13: Gesamte LN laut MFA-Flächennutzung: | D13: ha
A14: Summe aller Ackerflächen
A15: Summe des Dauergrün- und Dauerweidelandes
A16: Summe aller Dauer- und Spezialkulturen, wie Obst, Hopfen, Wein, Reb- und Baumschulen und Energieholzflächen
A17: Andere gedüngte Flächen, die nicht ÖPUL-LN sind (wie zB. Energieholzflächen oder Christbaumkulturen) | F17: Mit dem Ausdruck des Tabellenblattes "Ergebnis" sind die verpflichtenden Aufzeichnungen dokumentiert. Die Plausibilität des Ergebnisses kann mit den Blättern "Betrieb", "N_Bedarf", "Tiere", "Mineral", und eventuell "Organ_Dü" untermauert werden.
A18: Summe landwirtschaftliche Nutzfläche in ha | D18: =SUM(D14:D17) -> 0 | J18: http://www.bwsb.at/?+OEDuePLan+Update+&id=2500,,1783344,5491
A19: * Eine Fruchtfolge ist stickstoffzehrend, wenn 2/3 der Ackerfläche nicht mit Leguminosen, Braugerste, Sonnenblumen oder Öllein bebaut ist

Sheet N_Bedarf
C1: Kulturbezogener Stickstoff-und Phosphor-Bedarf | M1: ◄ | O1: ► | BE1: Phosphor-Bedarfswerte für Acker und Grünland | BJ1: Kali-Bedarfswerte für Acker und Grünland | BQ1: Zählenwenn für ha | BS1: Ackerkulturen | BT1: C5 | BU1: Suchformel | BV1: C6 | BW1: Suchformel2 | BX1: C7 | BY1: Suchformel3 | BZ1: C8 | CA1: Suchformel4 | CB1: C9 | CC1: Suchformel5 | CD1: C10 | CE1: Suchformel6 | CF1: C11 | CG1: Suchformel7 | CH1: C12 | CI1: Suchformel8 | CJ1: C13 | CK1: Suchformel9 | CL1: C14 | CM1: Suchformel10 | CN1: C15 | CO1: Suchformel11 | CP1: C16 | CQ1: Suchformel12 | CR1: C17 | CS1: Suchformel13 | CV1: Grünland | CW1: C20 | CX1: Suchformel | CY1: C21 | CZ1: Suchformel2 | DA1: C22 | DB1: Suchformel3 | DC1: C23 | DD1: Suchformel4 | DE1: C24 | DF1: Suchformel5 | DG1: C25 | DH1: Suchformel6
N2: Stickstoff aus Vorfrucht | AM2: Liste_Kulturen | AN2: Liste_N_Bedarf | BF2: Liste_P_Bedarf | BQ2: Acker | BS2: =0 -> 0 | BT2: =IFERROR(INDEX(Liste_Ackerkulturen_Gemüse_DropDown[Ackerkulturen],_xlfn.AGGREGATE(15,6,(ROW(Liste_Ackerkulturen_Gemüse_DropDown[Ackerkulturen])-1)/(--(SEARCH(BU$2,Liste_Ackerkulturen_Gemüse_DropDown[Ackerkulturen])>0)),ROW()-2),1),"") | BU2: =IF(N_Bedarf!$C5="","",IF(COUNTIF(Liste_Ackerkulturen_Gemüse_DropDown[Ackerkulturen],N_Bedarf!$C5),"",N_Bedarf!$C5)) | BV2: =IFERROR(INDEX(Liste_Ackerkulturen_Gemüse_DropDown[Ackerkulturen],_xlfn.AGGREGATE(15,6,(ROW(Liste_Ackerkulturen_Gemüse_DropDown[Ackerkulturen])-1)/(--(SEARCH(BW$2,Liste_Ackerkulturen_Gemüse_DropDown[Ackerkulturen])>0)),ROW()-2),1),"") | BW2: =IF(N_Bedarf!$C6="","",IF(COUNTIF(Liste_Ackerkulturen_Gemüse_DropDown[Ackerkulturen],N_Bedarf!$C6),"",N_Bedarf!$C6)) | BX2: =IFERROR(INDEX(Liste_Ackerkulturen_Gemüse_DropDown[Ackerkulturen],_xlfn.AGGREGATE(15,6,(ROW(Liste_Ackerkulturen_Gemüse_DropDown[Ackerkulturen])-1)/(--(SEARCH(BY$2,Liste_Ackerkulturen_Gemüse_DropDown[Ackerkulturen])>0)),ROW()-2),1),"") | BY2: =IF(N_Bedarf!$C7="","",IF(COUNTIF(Liste_Ackerkulturen_Gemüse_DropDown[Ackerkulturen],N_Bedarf!$C7),"",N_Bedarf!$C7)) | BZ2: =IFERROR(INDEX(Liste_Ackerkulturen_Gemüse_DropDown[Ackerkulturen],_xlfn.AGGREGATE(15,6,(ROW(Liste_Ackerkulturen_Gemüse_DropDown[Ackerkulturen])-1)/(--(SEARCH(CA$2,Liste_Ackerkulturen_Gemüse_DropDown[Ackerkulturen])>0)),ROW()-2),1),"") | CA2: =IF(N_Bedarf!$C8="","",IF(COUNTIF(Liste_Ackerkulturen_Gemüse_DropDown[Ackerkulturen],N_Bedarf!$C8),"",N_Bedarf!$C8)) | CB2: =IFERROR(INDEX(Liste_Ackerkulturen_Gemüse_DropDown[Ackerkulturen],_xlfn.AGGREGATE(15,6,(ROW(Liste_Ackerkulturen_Gemüse_DropDown[Ackerkulturen])-1)/(--(SEARCH(CC$2,Liste_Ackerkulturen_Gemüse_DropDown[Ackerkulturen])>0)),ROW()-2),1),"") | CC2: =IF(N_Bedarf!$C9="","",IF(COUNTIF(Liste_Ackerkulturen_Gemüse_DropDown[Ackerkulturen],N_Bedarf!$C9),"",N_Bedarf!$C9)) | CD2: =IFERROR(INDEX(Liste_Ackerkulturen_Gemüse_DropDown[Ackerkulturen],_xlfn.AGGREGATE(15,6,(ROW(Liste_Ackerkulturen_Gemüse_DropDown[Ackerkulturen])-1)/(--(SEARCH(CE$2,Liste_Ackerkulturen_Gemüse_DropDown[Ackerkulturen])>0)),ROW()-2),1),"") | CE2: =IF(N_Bedarf!$C10="","",IF(COUNTIF(Liste_Ackerkulturen_Gemüse_DropDown[Ackerkulturen],N_Bedarf!$C10),"",N_Bedarf!$C10)) | CF2: =IFERROR(INDEX(Liste_Ackerkulturen_Gemüse_DropDown[Ackerkulturen],_xlfn.AGGREGATE(15,6,(ROW(Liste_Ackerkulturen_Gemüse_DropDown[Ackerkulturen])-1)/(--(SEARCH(CG$2,Liste_Ackerkulturen_Gemüse_DropDown[Ackerkulturen])>0)),ROW()-2),1),"") | CG2: =IF(N_Bedarf!$C11="","",IF(COUNTIF(Liste_Ackerkulturen_Gemüse_DropDown[Ackerkulturen],N_Bedarf!$C11),"",N_Bedarf!$C11)) | CH2: =IFERROR(INDEX(Liste_Ackerkulturen_Gemüse_DropDown[Ackerkulturen],_xlfn.AGGREGATE(15,6,(ROW(Liste_Ackerkulturen_Gemüse_DropDown[Ackerkulturen])-1)/(--(SEARCH(CI$2,Liste_Ackerkulturen_Gemüse_DropDown[Ackerkulturen])>0)),ROW()-2),1),"") | CI2: =IF(N_Bedarf!$C12="","",IF(COUNTIF(Liste_Ackerkulturen_Gemüse_DropDown[Ackerkulturen],N_Bedarf!$C12),"",N_Bedarf!$C12)) | CJ2: =IFERROR(INDEX(Liste_Ackerkulturen_Gemüse_DropDown[Ackerkulturen],_xlfn.AGGREGATE(15,6,(ROW(Liste_Ackerkulturen_Gemüse_DropDown[Ackerkulturen])-1)/(--(SEARCH(CK$2,Liste_Ackerkulturen_Gemüse_DropDown[Ackerkulturen])>0)),ROW()-2),1),"") | CK2: =IF(N_Bedarf!$C13="","",IF(COUNTIF(Liste_Ackerkulturen_Gemüse_DropDown[Ackerkulturen],N_Bedarf!$C13),"",N_Bedarf!$C13)) | CL2: =IFERROR(INDEX(Liste_Ackerkulturen_Gemüse_DropDown[Ackerkulturen],_xlfn.AGGREGATE(15,6,(ROW(Liste_Ackerkulturen_Gemüse_DropDown[Ackerkulturen])-1)/(--(SEARCH(CM$2,Liste_Ackerkulturen_Gemüse_DropDown[Ackerkulturen])>0)),ROW()-2),1),"") | CM2: =IF(N_Bedarf!$C14="","",IF(COUNTIF(Liste_Ackerkulturen_Gemüse_DropDown[Ackerkulturen],N_Bedarf!$C14),"",N_Bedarf!$C14)) | CN2: =IFERROR(INDEX(Liste_Ackerkulturen_Gemüse_DropDown[Ackerkulturen],_xlfn.AGGREGATE(15,6,(ROW(Liste_Ackerkulturen_Gemüse_DropDown[Ackerkulturen])-1)/(--(SEARCH(CO$2,Liste_Ackerkulturen_Gemüse_DropDown[Ackerkulturen])>0)),ROW()-2),1),"") | CO2: =IF(N_Bedarf!$C15="","",IF(COUNTIF(Liste_Ackerkulturen_Gemüse_DropDown[Ackerkulturen],N_Bedarf!$C15),"",N_Bedarf!$C15)) | CP2: =IFERROR(INDEX(Liste_Ackerkulturen_Gemüse_DropDown[Ackerkulturen],_xlfn.AGGREGATE(15,6,(ROW(Liste_Ackerkulturen_Gemüse_DropDown[Ackerkulturen])-1)/(--(SEARCH(CQ$2,Liste_Ackerkulturen_Gemüse_DropDown[Ackerkulturen])>0)),ROW()-2),1),"") | CQ2: =IF(N_Bedarf!$C16="","",IF(COUNTIF(Liste_Ackerkulturen_Gemüse_DropDown[Ackerkulturen],N_Bedarf!$C16),"",N_Bedarf!$C16)) | CR2: =IFERROR(INDEX(Liste_Ackerkulturen_Gemüse_DropDown[Ackerkulturen],_xlfn.AGGREGATE(15,6,(ROW(Liste_Ackerkulturen_Gemüse_DropDown[Ackerkulturen])-1)/(--(SEARCH(CS$2,Liste_Ackerkulturen_Gemüse_DropDown[Ackerkulturen])>0)),ROW()-2),1),"") | CS2: =IF(N_Bedarf!$C17="","",IF(COUNTIF(Liste_Ackerkulturen_Gemüse_DropDown[Ackerkulturen],N_Bedarf!$C17),"",N_Bedarf!$C17)) | CV2: =0 -> 0 | CW2: =IFERROR(INDEX(Liste_Grünland_DropDown[Grünland],_xlfn.AGGREGATE(15,6,(ROW(Liste_Grünland_DropDown[Grünland])-1)/(--(SEARCH(CX$2,Liste_Grünland_DropDown[Grünland])>0)),ROW()-2),1),"") | CX2: =IF(N_Bedarf!$C20="","",IF(COUNTIF(Liste_Grünland_DropDown[Grünland],N_Bedarf!$C20),"",N_Bedarf!$C20)) | CY2: =IFERROR(INDEX(Liste_Grünland_DropDown[Grünland],_xlfn.AGGREGATE(15,6,(ROW(Liste_Grünland_DropDown[Grünland])-1)/(--(SEARCH(CZ$2,Liste_Grünland_DropDown[Grünland])>0)),ROW()-2),1),"") | CZ2: =IF(N_Bedarf!$C21="","",IF(COUNTIF(Liste_Grünland_DropDown[Grünland],N_Bedarf!$C21),"",N_Bedarf!$C21)) | DA2: =IFERROR(INDEX(Liste_Grünland_DropDown[Grünland],_xlfn.AGGREGATE(15,6,(ROW(Liste_Grünland_DropDown[Grünland])-1)/(--(SEARCH(DB$2,Liste_Grünland_DropDown[Grünland])>0)),ROW()-2),1),"") | DB2: =IF(N_Bedarf!$C22="","",IF(COUNTIF(Liste_Grünland_DropDown[Grünland],N_Bedarf!$C22),"",N_Bedarf!$C22)) | DC2: =IFERROR(INDEX(Liste_Grünland_DropDown[Grünland],_xlfn.AGGREGATE(15,6,(ROW(Liste_Grünland_DropDown[Grünland])-1)/(--(SEARCH(DD$2,Liste_Grünland_DropDown[Grünland])>0)),ROW()-2),1),"") | DD2: =IF(N_Bedarf!$C23="","",IF(COUNTIF(Liste_Grünland_DropDown[Grünland],N_Bedarf!$C23),"",N_Bedarf!$C23)) | DE2: =IFERROR(INDEX(Liste_Grünland_DropDown[Grünland],_xlfn.AGGREGATE(15,6,(ROW(Liste_Grünland_DropDown[Grünland])-1)/(--(SEARCH(DF$2,Liste_Grünland_DropDown[Grünland])>0)),ROW()-2),1),"") | DF2: =IF(N_Bedarf!$C24="","",IF(COUNTIF(Liste_Grünland_DropDown[Grünland],N_Bedarf!$C24),"",N_Bedarf!$C24)) | DG2: =IFERROR(INDEX(Liste_Grünland_DropDown[Grünland],_xlfn.AGGREGATE(15,6,(ROW(Liste_Grünland_DropDown[Grünland])-1)/(--(SEARCH(DH$2,Liste_Grünland_DropDown[Grünland])>0)),ROW()-2),1),"") | DH2: =IF(N_Bedarf!$C25="","",IF(COUNTIF(Liste_Grünland_DropDown[Grünland],N_Bedarf!$C25),"",N_Bedarf!$C25))
C3: Ackerkultur / Nutzung | E3: Kultur-fläche | F3: Ertragslage | H3: maximale N-Bedarfswerte | J3: N-Menge je Kultur | K3: Phosphor-Werte bei C-Versorgung | M3: P-Menge je Kultur | N3: Vorfruchtwirkung | Q3: Fläche | R3: Stickstoff | U3: Ertragslagen | AE3: Ausgabe Ertragslage Tonnage | AF3: Flächen mit N Bedarf | AG3: Entzugs-wert | AH3: Ausgabe N_Bedarf | AI3: Ausgabe P_Bedarf | AJ3: Ausgabe K_Bedarf | AK3: Rück-lieferung | AL3: Vorfrucht-wirkung | AN3: niedrig | AO3: t/ha | AP3: mittel | AQ3: t/ha | AR3: hoch 1 | AS3: t/ha | AT3: hoch 2 | AU3: t/ha | AV3: hoch 3 | AW3: t/ha | AX3: GW-mittel | AY3: t/ha | AZ3: GW-hoch | BA3: t/ha | BB3: Entzugs- wert nach Anhang P | BC3: Vorf.-wirkung | BF3: niedrig | BG3: mittel | BH3: hoch 1 | BK3: niedrig | BL3: mittel | BM3: hoch 1 | BN3: Getreide-Stroh- abfuhr | BO3: Stroh am Feld | BQ3: =IFERROR(COUNTIF(Liste_Ackerkulturen_Gemüse_DropDown[Ackerkulturen],N_Bedarf!$C5),0) -> 1 | BS3: Weizen < 14 % Rohprotein | BT3: =IFERROR(INDEX(Liste_Ackerkulturen_Gemüse_DropDown[Ackerkulturen],_xlfn.AGGREGATE(15,6,(ROW(Liste_Ackerkulturen_Gemüse_DropDown[Ackerkulturen])-1)/(--(SEARCH(BU$2,Liste_Ackerkulturen_Gemüse_DropDown[Ackerkulturen])>0)),ROW()-2),1),"") -> 0 | BV3: =IFERROR(INDEX(Liste_Ackerkulturen_Gemüse_DropDown[Ackerkulturen],_xlfn.AGGREGATE(15,6,(ROW(Liste_Ackerkulturen_Gemüse_DropDown[Ackerkulturen])-1)/(--(SEARCH(BW$2,Liste_Ackerkulturen_Gemüse_DropDown[Ackerkulturen])>0)),ROW()-2),1),"") -> 0 | BX3: =IFERROR(INDEX(Liste_Ackerkulturen_Gemüse_DropDown[Ackerkulturen],_xlfn.AGGREGATE(15,6,(ROW(Liste_Ackerkulturen_Gemüse_DropDown[Ackerkulturen])-1)/(--(SEARCH(BY$2,Liste_Ackerkulturen_Gemüse_DropDown[Ackerkulturen])>0)),ROW()-2),1),"") -> 0 | BZ3: =IFERROR(INDEX(Liste_Ackerkulturen_Gemüse_DropDown[Ackerkulturen],_xlfn.AGGREGATE(15,6,(ROW(Liste_Ackerkulturen_Gemüse_DropDown[Ackerkulturen])-1)/(--(SEARCH(CA$2,Liste_Ackerkulturen_Gemüse_DropDown[Ackerkulturen])>0)),ROW()-2),1),"") -> 0 | CB3: =IFERROR(INDEX(Liste_Ackerkulturen_Gemüse_DropDown[Ackerkulturen],_xlfn.AGGREGATE(15,6,(ROW(Liste_Ackerkulturen_Gemüse_DropDown[Ackerkulturen])-1)/(--(SEARCH(CC$2,Liste_Ackerkulturen_Gemüse_DropDown[Ackerkulturen])>0)),ROW()-2),1),"") -> 0 | CD3: =IFERROR(INDEX(Liste_Ackerkulturen_Gemüse_DropDown[Ackerkulturen],_xlfn.AGGREGATE(15,6,(ROW(Liste_Ackerkulturen_Gemüse_DropDown[Ackerkulturen])-1)/(--(SEARCH(CE$2,Liste_Ackerkulturen_Gemüse_DropDown[Ackerkulturen])>0)),ROW()-2),1),"") -> 0 | CF3: =IFERROR(INDEX(Liste_Ackerkulturen_Gemüse_DropDown[Ackerkulturen],_xlfn.AGGREGATE(15,6,(ROW(Liste_Ackerkulturen_Gemüse_DropDown[Ackerkulturen])-1)/(--(SEARCH(CG$2,Liste_Ackerkulturen_Gemüse_DropDown[Ackerkulturen])>0)),ROW()-2),1),"") -> 0 | CH3: =IFERROR(INDEX(Liste_Ackerkulturen_Gemüse_DropDown[Ackerkulturen],_xlfn.AGGREGATE(15,6,(ROW(Liste_Ackerkulturen_Gemüse_DropDown[Ackerkulturen])-1)/(--(SEARCH(CI$2,Liste_Ackerkulturen_Gemüse_DropDown[Ackerkulturen])>0)),ROW()-2),1),"") -> 0 | CJ3: =IFERROR(INDEX(Liste_Ackerkulturen_Gemüse_DropDown[Ackerkulturen],_xlfn.AGGREGATE(15,6,(ROW(Liste_Ackerkulturen_Gemüse_DropDown[Ackerkulturen])-1)/(--(SEARCH(CK$2,Liste_Ackerkulturen_Gemüse_DropDown[Ackerkulturen])>0)),ROW()-2),1),"") -> 0 | CL3: =IFERROR(INDEX(Liste_Ackerkulturen_Gemüse_DropDown[Ackerkulturen],_xlfn.AGGREGATE(15,6,(ROW(Liste_Ackerkulturen_Gemüse_DropDown[Ackerkulturen])-1)/(--(SEARCH(CM$2,Liste_Ackerkulturen_Gemüse_DropDown[Ackerkulturen])>0)),ROW()-2),1),"") -> 0 | CN3: =IFERROR(INDEX(Liste_Ackerkulturen_Gemüse_DropDown[Ackerkulturen],_xlfn.AGGREGATE(15,6,(ROW(Liste_Ackerkulturen_Gemüse_DropDown[Ackerkulturen])-1)/(--(SEARCH(CO$2,Liste_Ackerkulturen_Gemüse_DropDown[Ackerkulturen])>0)),ROW()-2),1),"") -> 0 | CP3: =IFERROR(INDEX(Liste_Ackerkulturen_Gemüse_DropDown[Ackerkulturen],_xlfn.AGGREGATE(15,6,(ROW(Liste_Ackerkulturen_Gemüse_DropDown[Ackerkulturen])-1)/(--(SEARCH(CQ$2,Liste_Ackerkulturen_Gemüse_DropDown[Ackerkulturen])>0)),ROW()-2),1),"") -> 0 | CR3: =IFERROR(INDEX(Liste_Ackerkulturen_Gemüse_DropDown[Ackerkulturen],_xlfn.AGGREGATE(15,6,(ROW(Liste_Ackerkulturen_Gemüse_DropDown[Ackerkulturen])-1)/(--(SEARCH(CS$2,Liste_Ackerkulturen_Gemüse_DropDown[Ackerkulturen])>0)),ROW()-2),1),"") -> 0 | CV3: GL < 40 % Leguminosen 1 Nutzung | CW3: =IFERROR(INDEX(Liste_Grünland_DropDown[Grünland],_xlfn.AGGREGATE(15,6,(ROW(Liste_Grünland_DropDown[Grünland])-1)/(--(SEARCH(CX$2,Liste_Grünland_DropDown[Grünland])>0)),ROW()-2),1),"") -> 0 | CY3: =IFERROR(INDEX(Liste_Grünland_DropDown[Grünland],_xlfn.AGGREGATE(15,6,(ROW(Liste_Grünland_DropDown[Grünland])-1)/(--(SEARCH(CZ$2,Liste_Grünland_DropDown[Grünland])>0)),ROW()-2),1),"") -> 0 | DA3: =IFERROR(INDEX(Liste_Grünland_DropDown[Grünland],_xlfn.AGGREGATE(15,6,(ROW(Liste_Grünland_DropDown[Grünland])-1)/(--(SEARCH(DB$2,Liste_Grünland_DropDown[Grünland])>0)),ROW()-2),1),"") -> 0 | DC3: =IFERROR(INDEX(Liste_Grünland_DropDown[Grünland],_xlfn.AGGREGATE(15,6,(ROW(Liste_Grünland_DropDown[Grünland])-1)/(--(SEARCH(DD$2,Liste_Grünland_DropDown[Grünland])>0)),ROW()-2),1),"") -> 0 | DE3: =IFERROR(INDEX(Liste_Grünland_DropDown[Grünland],_xlfn.AGGREGATE(15,6,(ROW(Liste_Grünland_DropDown[Grünland])-1)/(--(SEARCH(DF$2,Liste_Grünland_DropDown[Grünland])>0)),ROW()-2),1),"") -> 0 | DG3: =IFERROR(INDEX(Liste_Grünland_DropDown[Grünland],_xlfn.AGGREGATE(15,6,(ROW(Liste_Grünland_DropDown[Grünland])-1)/(--(SEARCH(DH$2,Liste_Grünland_DropDown[Grünland])>0)),ROW()-2),1),"") -> 0
C4: Kultur hier auswählen oder händisch laut unteren Tabellen eintragen | E4: ha | F4: niedrig - hoch 3 | G4: t/ha | H4: händisch | J4: kg | K4: händisch | L4: vorge- geben | M4: kg | Q4: ha | R4: kg N / ha | S4: N gesamt | U4: Die Düngung ist auf langjährige Durchschnittserträge abzustimmen. Es gelten für alle Betriebe die Düngezahlen des Aktionsprogramm Nitrat. Bei der Teilnahme an der ÖPUL-Maßnahme "Vorbeugender Grundwasserschutz" in Salzburg gelten die Düngeobergrenzen für den vorbeugenden Grundwasserschutz! | AE4: t/ha | AF4: ha | AG4: kg | AH4: kg | AI4: kg | AJ4: kg | AK4: kg | AN4: 2 | AO4: 3 | AP4: 4 | AQ4: 5 | AR4: 6 | AS4: 7 | AT4: 8 | AU4: 9 | AV4: 10 | AW4: 11 | AX4: 12 | AY4: 13 | AZ4: 14 | BA4: 15 | BB4: 16 | BC4: 17 | BF4: kg P/ha | BG4: kg P/ha | BH4: kg P/ha | BK4: kg K/ha | BL4: kg K/ha | BM4: kg K/ha | BN4: kg K/ha | BO4: kg K/ha | BQ4: =IFERROR(COUNTIF(Liste_Ackerkulturen_Gemüse_DropDown[Ackerkulturen],N_Bedarf!$C6),0) -> 2 | BS4: Weizen ≥ 14 % Rohprotein | BT4: =IFERROR(INDEX(Liste_Ackerkulturen_Gemüse_DropDown[Ackerkulturen],_xlfn.AGGREGATE(15,6,(ROW(Liste_Ackerkulturen_Gemüse_DropDown[Ackerkulturen])-1)/(--(SEARCH(BU$2,Liste_Ackerkulturen_Gemüse_DropDown[Ackerkulturen])>0)),ROW()-2),1),"") -> Weizen < 14 % Rohprotein | BV4: =IFERROR(INDEX(Liste_Ackerkulturen_Gemüse_DropDown[Ackerkulturen],_xlfn.AGGREGATE(15,6,(ROW(Liste_Ackerkulturen_Gemüse_DropDown[Ackerkulturen])-1)/(--(SEARCH(BW$2,Liste_Ackerkulturen_Gemüse_DropDown[Ackerkulturen])>0)),ROW()-2),1),"") -> Weizen < 14 % Rohprotein | BX4: =IFERROR(INDEX(Liste_Ackerkulturen_Gemüse_DropDown[Ackerkulturen],_xlfn.AGGREGATE(15,6,(ROW(Liste_Ackerkulturen_Gemüse_DropDown[Ackerkulturen])-1)/(--(SEARCH(BY$2,Liste_Ackerkulturen_Gemüse_DropDown[Ackerkulturen])>0)),ROW()-2),1),"") -> Weizen < 14 % Rohprotein | BZ4: =IFERROR(INDEX(Liste_Ackerkulturen_Gemüse_DropDown[Ackerkulturen],_xlfn.AGGREGATE(15,6,(ROW(Liste_Ackerkulturen_Gemüse_DropDown[Ackerkulturen])-1)/(--(SEARCH(CA$2,Liste_Ackerkulturen_Gemüse_DropDown[Ackerkulturen])>0)),ROW()-2),1),"") -> Weizen < 14 % Rohprotein | CB4: =IFERROR(INDEX(Liste_Ackerkulturen_Gemüse_DropDown[Ackerkulturen],_xlfn.AGGREGATE(15,6,(ROW(Liste_Ackerkulturen_Gemüse_DropDown[Ackerkulturen])-1)/(--(SEARCH(CC$2,Liste_Ackerkulturen_Gemüse_DropDown[Ackerkulturen])>0)),ROW()-2),1),"") -> Weizen < 14 % Rohprotein | CD4: =IFERROR(INDEX(Liste_Ackerkulturen_Gemüse_DropDown[Ackerkulturen],_xlfn.AGGREGATE(15,6,(ROW(Liste_Ackerkulturen_Gemüse_DropDown[Ackerkulturen])-1)/(--(SEARCH(CE$2,Liste_Ackerkulturen_Gemüse_DropDown[Ackerkulturen])>0)),ROW()-2),1),"") -> Weizen < 14 % Rohprotein | CF4: =IFERROR(INDEX(Liste_Ackerkulturen_Gemüse_DropDown[Ackerkulturen],_xlfn.AGGREGATE(15,6,(ROW(Liste_Ackerkulturen_Gemüse_DropDown[Ackerkulturen])-1)/(--(SEARCH(CG$2,Liste_Ackerkulturen_Gemüse_DropDown[Ackerkulturen])>0)),ROW()-2),1),"") -> Weizen < 14 % Rohprotein | CH4: =IFERROR(INDEX(Liste_Ackerkulturen_Gemüse_DropDown[Ackerkulturen],_xlfn.AGGREGATE(15,6,(ROW(Liste_Ackerkulturen_Gemüse_DropDown[Ackerkulturen])-1)/(--(SEARCH(CI$2,Liste_Ackerkulturen_Gemüse_DropDown[Ackerkulturen])>0)),ROW()-2),1),"") -> Weizen < 14 % Rohprotein | CJ4: =IFERROR(INDEX(Liste_Ackerkulturen_Gemüse_DropDown[Ackerkulturen],_xlfn.AGGREGATE(15,6,(ROW(Liste_Ackerkulturen_Gemüse_DropDown[Ackerkulturen])-1)/(--(SEARCH(CK$2,Liste_Ackerkulturen_Gemüse_DropDown[Ackerkulturen])>0)),ROW()-2),1),"") -> Weizen < 14 % Rohprotein | CL4: =IFERROR(INDEX(Liste_Ackerkulturen_Gemüse_DropDown[Ackerkulturen],_xlfn.AGGREGATE(15,6,(ROW(Liste_Ackerkulturen_Gemüse_DropDown[Ackerkulturen])-1)/(--(SEARCH(CM$2,Liste_Ackerkulturen_Gemüse_DropDown[Ackerkulturen])>0)),ROW()-2),1),"") -> Weizen < 14 % Rohprotein | CN4: =IFERROR(INDEX(Liste_Ackerkulturen_Gemüse_DropDown[Ackerkulturen],_xlfn.AGGREGATE(15,6,(ROW(Liste_Ackerkulturen_Gemüse_DropDown[Ackerkulturen])-1)/(--(SEARCH(CO$2,Liste_Ackerkulturen_Gemüse_DropDown[Ackerkulturen])>0)),ROW()-2),1),"") -> Weizen < 14 % Rohprotein | CP4: =IFERROR(INDEX(Liste_Ackerkulturen_Gemüse_DropDown[Ackerkulturen],_xlfn.AGGREGATE(15,6,(ROW(Liste_Ackerkulturen_Gemüse_DropDown[Ackerkulturen])-1)/(--(SEARCH(CQ$2,Liste_Ackerkulturen_Gemüse_DropDown[Ackerkulturen])>0)),ROW()-2),1),"") -> Weizen < 14 % Rohprotein | CR4: =IFERROR(INDEX(Liste_Ackerkulturen_Gemüse_DropDown[Ackerkulturen],_xlfn.AGGREGATE(15,6,(ROW(Liste_Ackerkulturen_Gemüse_DropDown[Ackerkulturen])-1)/(--(SEARCH(CS$2,Liste_Ackerkulturen_Gemüse_DropDown[Ackerkulturen])>0)),ROW()-2),1),"") -> Weizen < 14 % Rohprotein | CV4: GL < 40 % Leguminosen 2 Nutzungen | CW4: =IFERROR(INDEX(Liste_Grünland_DropDown[Grünland],_xlfn.AGGREGATE(15,6,(ROW(Liste_Grünland_DropDown[Grünland])-1)/(--(SEARCH(CX$2,Liste_Grünland_DropDown[Grünland])>0)),ROW()-2),1),"") -> GL < 40 % Leguminosen 1 Nutzung | CY4: =IFERROR(INDEX(Liste_Grünland_DropDown[Grünland],_xlfn.AGGREGATE(15,6,(ROW(Liste_Grünland_DropDown[Grünland])-1)/(--(SEARCH(CZ$2,Liste_Grünland_DropDown[Grünland])>0)),ROW()-2),1),"") -> GL < 40 % Leguminosen 1 Nutzung | DA4: =IFERROR(INDEX(Liste_Grünland_DropDown[Grünland],_xlfn.AGGREGATE(15,6,(ROW(Liste_Grünland_DropDown[Grünland])-1)/(--(SEARCH(DB$2,Liste_Grünland_DropDown[Grünland])>0)),ROW()-2),1),"") -> GL < 40 % Leguminosen 1 Nutzung | DC4: =IFERROR(INDEX(Liste_Grünland_DropDown[Grünland],_xlfn.AGGREGATE(15,6,(ROW(Liste_Grünland_DropDown[Grünland])-1)/(--(SEARCH(DD$2,Liste_Grünland_DropDown[Grünland])>0)),ROW()-2),1),"") -> GL < 40 % Leguminosen 1 Nutzung | DE4: =IFERROR(INDEX(Liste_Grünland_DropDown[Grünland],_xlfn.AGGREGATE(15,6,(ROW(Liste_Grünland_DropDown[Grünland])-1)/(--(SEARCH(DF$2,Liste_Grünland_DropDown[Grünland])>0)),ROW()-2),1),"") -> GL < 40 % Leguminosen 1 Nutzung | DG4: =IFERROR(INDEX(Liste_Grünland_DropDown[Grünland],_xlfn.AGGREGATE(15,6,(ROW(Liste_Grünland_DropDown[Grünland])-1)/(--(SEARCH(DH$2,Liste_Grünland_DropDown[Grünland])>0)),ROW()-2),1),"") -> GL < 40 % Leguminosen 1 Nutzung
A5: a | B5: =CONCATENATE(A5," - ",C5) -> a - | G5: =IF(ISERROR(AE5),"",AE5) | I5: =IF(AND(ISNA(AH5),ISBLANK(C5)),0,IF(ISNA(AH5),H5,AH5)) -> 0 | J5: =E5*I5 -> 0 | L5: =IF(ISNA(AI5),0,AI5) -> 0 | M5: =IF(ISBLANK(K5),E5*L5,E5*K5) -> 0 | N5: Ackerbohne, Körnererbse | R5: 20 | S5: =Q5*R5 -> 0 | AE5: =IFERROR(IF(OR(C5="",E5="",F5=""),"",(IF(F5="niedrig",VLOOKUP(C5,Liste_N_Bedarf,3,0),IF(F5="mittel",VLOOKUP(C5,Liste_N_Bedarf,5,0),IF(F5="hoch 1",VLOOKUP(C5,Liste_N_Bedarf,7,0),IF(F5="hoch 2",VLOOKUP(C5,Liste_N_Bedarf,9,0),IF(F5="hoch 3",VLOOKUP(C5,Liste_N_Bedarf,11,0),IF(F5="GW-mittel",VLOOKUP(C5,Liste_N_Bedarf,13,0),IF(F5="GW-hoch",VLOOKUP(C5,Liste_N_Bedarf,15,0)))))))))),"") | AF5: =IF(J5>0,E5,0) -> 0 | AG5: =IF(ISBLANK(F5),0,VLOOKUP(C5,Liste_N_Bedarf,9,0)) -> 0 | AH5: =IF(F5="niedrig",VLOOKUP(C5,Liste_N_Bedarf,2,0),IF(F5="mittel",VLOOKUP(C5,Liste_N_Bedarf,4,0),IF(F5="hoch 1",VLOOKUP(C5,Liste_N_Bedarf,6,0),IF(F5="hoch 2",VLOOKUP(C5,Liste_N_Bedarf,8,0),IF(F5="hoch 3",VLOOKUP(C5,Liste_N_Bedarf,10,0),IF(F5="GW-mittel",VLOOKUP(C5,Liste_N_Bedarf,12,0),IF(F5="GW-hoch",VLOOKUP(C5,Liste_N_Bedarf,14,0),0))))))) -> 0 | AI5: =IF(F5="niedrig",VLOOKUP(C5,Liste_P_Bedarf,2,0),IF(F5="GW-mittel",VLOOKUP(C5,Liste_P_Bedarf,3,0),IF(F5="mittel",VLOOKUP(C5,Liste_P_Bedarf,3,0),IF(F5="GW-hoch",VLOOKUP(C5,Liste_P_Bedarf,4,0),IF(F5="hoch 1",VLOOKUP(C5,Liste_P_Bedarf,4,0),IF(F5="hoch 2",VLOOKUP(C5,Liste_P_Bedarf,4,0),IF(F5="hoch 3",VLOOKUP(C5,Liste_P_Bedarf,4,0),0))))))) -> 0 | AJ5: =IF(F5="niedrig",VLOOKUP(C5,Liste_K_Bedarf,2,0),IF(F5="GW-mittel",VLOOKUP(C5,Liste_K_Bedarf,3,0),IF(F5="mittel",VLOOKUP(C5,Liste_K_Bedarf,3,0),IF(F5="GW-hoch",VLOOKUP(C5,Liste_K_Bedarf,4,0),IF(F5="hoch 1",VLOOKUP(C5,Liste_K_Bedarf,4,0),IF(F5="hoch 2",VLOOKUP(C5,Liste_K_Bedarf,4,0),IF(F5="hoch 3",VLOOKUP(C5,Liste_K_Bedarf,4,0),0))))))) -> 0 | AK5: =IF(ISBLANK(F5),0,VLOOKUP(C5,Liste_K_Bedarf,5,0)) -> 0 | AL5: =IF(ISBLANK(F5),0,VLOOKUP(C5,Liste_N_Bedarf,17,0)) -> 0 | AM5: Weizen < 14 % Rohprotein | AN5: 105 | AO5: < 4,5 | AP5: 145 | AQ5: 4,5 - 6,0 | AR5: 170 | AS5: 6,0 - 7,5 | AT5: 180 | AU5: 7,5 - 9,0 | AV5: 195 | AW5: > 9,0 | AX5: 130 | AY5: 4,5 - 6,0 | AZ5: 150 | BA5: > 6,0 | BB5: 20 | BE5: Weizen < 14 % Rohprotein | BF5: 50 | BG5: 55 | BH5: 65 | BJ5: Weizen < 14 % Rohprotein | BK5: 70 | BL5: 80 | BM5: 90 | BN5: =IF('Kali u Kosten'!$H$3="ja",BO5,IF($V$27="nein",0,0)) -> 50 | BO5: 50 | BQ5: =IFERROR(COUNTIF(Liste_Ackerkulturen_Gemüse_DropDown[Ackerkulturen],N_Bedarf!$C7),0) -> 2 | BS5: Durum - Hartweizen | BT5: =IFERROR(INDEX(Liste_Ackerkulturen_Gemüse_DropDown[Ackerkulturen],_xlfn.AGGREGATE(15,6,(ROW(Liste_Ackerkulturen_Gemüse_DropDown[Ackerkulturen])-1)/(--(SEARCH(BU$2,Liste_Ackerkulturen_Gemüse_DropDown[Ackerkulturen])>0)),ROW()-2),1),"") -> Weizen ≥ 14 % Rohprotein | BV5: =IFERROR(INDEX(Liste_Ackerkulturen_Gemüse_DropDown[Ackerkulturen],_xlfn.AGGREGATE(15,6,(ROW(Liste_Ackerkulturen_Gemüse_DropDown[Ackerkulturen])-1)/(--(SEARCH(BW$2,Liste_Ackerkulturen_Gemüse_DropDown[Ackerkulturen])>0)),ROW()-2),1),"") -> Weizen ≥ 14 % Rohprotein | BX5: =IFERROR(INDEX(Liste_Ackerkulturen_Gemüse_DropDown[Ackerkulturen],_xlfn.AGGREGATE(15,6,(ROW(Liste_Ackerkulturen_Gemüse_DropDown[Ackerkulturen])-1)/(--(SEARCH(BY$2,Liste_Ackerkulturen_Gemüse_DropDown[Ackerkulturen])>0)),ROW()-2),1),"") -> Weizen ≥ 14 % Rohprotein | BZ5: =IFERROR(INDEX(Liste_Ackerkulturen_Gemüse_DropDown[Ackerkulturen],_xlfn.AGGREGATE(15,6,(ROW(Liste_Ackerkulturen_Gemüse_DropDown[Ackerkulturen])-1)/(--(SEARCH(CA$2,Liste_Ackerkulturen_Gemüse_DropDown[Ackerkulturen])>0)),ROW()-2),1),"") -> Weizen ≥ 14 % Rohprotein | CB5: =IFERROR(INDEX(Liste_Ackerkulturen_Gemüse_DropDown[Ackerkulturen],_xlfn.AGGREGATE(15,6,(ROW(Liste_Ackerkulturen_Gemüse_DropDown[Ackerkulturen])-1)/(--(SEARCH(CC$2,Liste_Ackerkulturen_Gemüse_DropDown[Ackerkulturen])>0)),ROW()-2),1),"") -> Weizen ≥ 14 % Rohprotein | CD5: =IFERROR(INDEX(Liste_Ackerkulturen_Gemüse_DropDown[Ackerkulturen],_xlfn.AGGREGATE(15,6,(ROW(Liste_Ackerkulturen_Gemüse_DropDown[Ackerkulturen])-1)/(--(SEARCH(CE$2,Liste_Ackerkulturen_Gemüse_DropDown[Ackerkulturen])>0)),ROW()-2),1),"") -> Weizen ≥ 14 % Rohprotein | CF5: =IFERROR(INDEX(Liste_Ackerkulturen_Gemüse_DropDown[Ackerkulturen],_xlfn.AGGREGATE(15,6,(ROW(Liste_Ackerkulturen_Gemüse_DropDown[Ackerkulturen])-1)/(--(SEARCH(CG$2,Liste_Ackerkulturen_Gemüse_DropDown[Ackerkulturen])>0)),ROW()-2),1),"") -> Weizen ≥ 14 % Rohprotein | CH5: =IFERROR(INDEX(Liste_Ackerkulturen_Gemüse_DropDown[Ackerkulturen],_xlfn.AGGREGATE(15,6,(ROW(Liste_Ackerkulturen_Gemüse_DropDown[Ackerkulturen])-1)/(--(SEARCH(CI$2,Liste_Ackerkulturen_Gemüse_DropDown[Ackerkulturen])>0)),ROW()-2),1),"") -> Weizen ≥ 14 % Rohprotein | CJ5: =IFERROR(INDEX(Liste_Ackerkulturen_Gemüse_DropDown[Ackerkulturen],_xlfn.AGGREGATE(15,6,(ROW(Liste_Ackerkulturen_Gemüse_DropDown[Ackerkulturen])-1)/(--(SEARCH(CK$2,Liste_Ackerkulturen_Gemüse_DropDown[Ackerkulturen])>0)),ROW()-2),1),"") -> Weizen ≥ 14 % Rohprotein | CL5: =IFERROR(INDEX(Liste_Ackerkulturen_Gemüse_DropDown[Ackerkulturen],_xlfn.AGGREGATE(15,6,(ROW(Liste_Ackerkulturen_Gemüse_DropDown[Ackerkulturen])-1)/(--(SEARCH(CM$2,Liste_Ackerkulturen_Gemüse_DropDown[Ackerkulturen])>0)),ROW()-2),1),"") -> Weizen ≥ 14 % Rohprotein | CN5: =IFERROR(INDEX(Liste_Ackerkulturen_Gemüse_DropDown[Ackerkulturen],_xlfn.AGGREGATE(15,6,(ROW(Liste_Ackerkulturen_Gemüse_DropDown[Ackerkulturen])-1)/(--(SEARCH(CO$2,Liste_Ackerkulturen_Gemüse_DropDown[Ackerkulturen])>0)),ROW()-2),1),"") -> Weizen ≥ 14 % Rohprotein | CP5: =IFERROR(INDEX(Liste_Ackerkulturen_Gemüse_DropDown[Ackerkulturen],_xlfn.AGGREGATE(15,6,(ROW(Liste_Ackerkulturen_Gemüse_DropDown[Ackerkulturen])-1)/(--(SEARCH(CQ$2,Liste_Ackerkulturen_Gemüse_DropDown[Ackerkulturen])>0)),ROW()-2),1),"") -> Weizen ≥ 14 % Rohprotein | CR5: =IFERROR(INDEX(Liste_Ackerkulturen_Gemüse_DropDown[Ackerkulturen],_xlfn.AGGREGATE(15,6,(ROW(Liste_Ackerkulturen_Gemüse_DropDown[Ackerkulturen])-1)/(--(SEARCH(CS$2,Liste_Ackerkulturen_Gemüse_DropDown[Ackerkulturen])>0)),ROW()-2),1),"") -> Weizen ≥ 14 % Rohprotein | CV5: GL < 40 % Leguminosen 3 Nutzungen | CW5: =IFERROR(INDEX(Liste_Grünland_DropDown[Grünland],_xlfn.AGGREGATE(15,6,(ROW(Liste_Grünland_DropDown[Grünland])-1)/(--(SEARCH(CX$2,Liste_Grünland_DropDown[Grünland])>0)),ROW()-2),1),"") -> GL < 40 % Leguminosen 2 Nutzungen | CY5: =IFERROR(INDEX(Liste_Grünland_DropDown[Grünland],_xlfn.AGGREGATE(15,6,(ROW(Liste_Grünland_DropDown[Grünland])-1)/(--(SEARCH(CZ$2,Liste_Grünland_DropDown[Grünland])>0)),ROW()-2),1),"") -> GL < 40 % Leguminosen 2 Nutzungen | DA5: =IFERROR(INDEX(Liste_Grünland_DropDown[Grünland],_xlfn.AGGREGATE(15,6,(ROW(Liste_Grünland_DropDown[Grünland])-1)/(--(SEARCH(DB$2,Liste_Grünland_DropDown[Grünland])>0)),ROW()-2),1),"") -> GL < 40 % Leguminosen 2 Nutzungen | DC5: =IFERROR(INDEX(Liste_Grünland_DropDown[Grünland],_xlfn.AGGREGATE(15,6,(ROW(Liste_Grünland_DropDown[Grünland])-1)/(--(SEARCH(DD$2,Liste_Grünland_DropDown[Grünland])>0)),ROW()-2),1),"") -> GL < 40 % Leguminosen 2 Nutzungen | DE5: =IFERROR(INDEX(Liste_Grünland_DropDown[Grünland],_xlfn.AGGREGATE(15,6,(ROW(Liste_Grünland_DropDown[Grünland])-1)/(--(SEARCH(DF$2,Liste_Grünland_DropDown[Grünland])>0)),ROW()-2),1),"") -> GL < 40 % Leguminosen 2 Nutzungen | DG5: =IFERROR(INDEX(Liste_Grünland_DropDown[Grünland],_xlfn.AGGREGATE(15,6,(ROW(Liste_Grünland_DropDown[Grünland])-1)/(--(SEARCH(DH$2,Liste_Grünland_DropDown[Grünland])>0)),ROW()-2),1),"") -> GL < 40 % Leguminosen 2 Nutzungen
A6: b | B6: =CONCATENATE(A6," - ",C6) -> b - | G6: =IF(ISERROR(AE6),"",AE6) | I6: =IF(AND(ISNA(AH6),ISBLANK(C6)),0,IF(ISNA(AH6),H6,AH6)) -> 0 | J6: =E6*I6 -> 0 | L6: =IF(ISNA(AI6),0,AI6) -> 0 | M6: =IF(ISBLANK(K6),E6*L6,E6*K6) -> 0 | N6: Klee, Luzerne einjährig nach Umbruch | R6: 20 | S6: =Q6*R6 -> 0 | AE6: =IFERROR(IF(OR(C6="",E6="",F6=""),"",(IF(F6="niedrig",VLOOKUP(C6,Liste_N_Bedarf,3,0),IF(F6="mittel",VLOOKUP(C6,Liste_N_Bedarf,5,0),IF(F6="hoch 1",VLOOKUP(C6,Liste_N_Bedarf,7,0),IF(F6="hoch 2",VLOOKUP(C6,Liste_N_Bedarf,9,0),IF(F6="hoch 3",VLOOKUP(C6,Liste_N_Bedarf,11,0),IF(F6="GW-mittel",VLOOKUP(C6,Liste_N_Bedarf,13,0),IF(F6="GW-hoch",VLOOKUP(C6,Liste_N_Bedarf,15,0)))))))))),"") | AF6: =IF(J6>0,E6,0) -> 0 | AG6: =IF(ISBLANK(F6),0,VLOOKUP(C6,Liste_N_Bedarf,9,0)) -> 0 | AH6: =IF(F6="niedrig",VLOOKUP(C6,Liste_N_Bedarf,2,0),IF(F6="mittel",VLOOKUP(C6,Liste_N_Bedarf,4,0),IF(F6="hoch 1",VLOOKUP(C6,Liste_N_Bedarf,6,0),IF(F6="hoch 2",VLOOKUP(C6,Liste_N_Bedarf,8,0),IF(F6="hoch 3",VLOOKUP(C6,Liste_N_Bedarf,10,0),IF(F6="GW-mittel",VLOOKUP(C6,Liste_N_Bedarf,12,0),IF(F6="GW-hoch",VLOOKUP(C6,Liste_N_Bedarf,14,0),0))))))) -> 0 | AI6: =IF(F6="niedrig",VLOOKUP(C6,Liste_P_Bedarf,2,0),IF(F6="GW-mittel",VLOOKUP(C6,Liste_P_Bedarf,3,0),IF(F6="mittel",VLOOKUP(C6,Liste_P_Bedarf,3,0),IF(F6="GW-hoch",VLOOKUP(C6,Liste_P_Bedarf,4,0),IF(F6="hoch 1",VLOOKUP(C6,Liste_P_Bedarf,4,0),IF(F6="hoch 2",VLOOKUP(C6,Liste_P_Bedarf,4,0),IF(F6="hoch 3",VLOOKUP(C6,Liste_P_Bedarf,4,0),0))))))) -> 0 | AJ6: =IF(F6="niedrig",VLOOKUP(C6,Liste_K_Bedarf,2,0),IF(F6="GW-mittel",VLOOKUP(C6,Liste_K_Bedarf,3,0),IF(F6="mittel",VLOOKUP(C6,Liste_K_Bedarf,3,0),IF(F6="GW-hoch",VLOOKUP(C6,Liste_K_Bedarf,4,0),IF(F6="hoch 1",VLOOKUP(C6,Liste_K_Bedarf,4,0),IF(F6="hoch 2",VLOOKUP(C6,Liste_K_Bedarf,4,0),IF(F6="hoch 3",VLOOKUP(C6,Liste_K_Bedarf,4,0),0))))))) -> 0 | AK6: =IF(ISBLANK(F6),0,VLOOKUP(C6,Liste_K_Bedarf,5,0)) -> 0 | AL6: =IF(ISBLANK(F6),0,VLOOKUP(C6,Liste_N_Bedarf,17,0)) -> 0 | AM6: Weizen ≥ 14 % Rohprotein | AN6: 105 | AO6: < 4 | AP6: 145 | AQ6: 4,0 - 5,5 | AR6: 170 | AS6: 5,5 - 6,75 | AT6: 180 | AU6: 6,75 - 8 | AV6: 195 | AW6: > 8 | AX6: 130 | AY6: 4,0 - 5,5 | AZ6: 150 | BA6: > 5,5 | BB6: 22 | BE6: Weizen ≥ 14 % Rohprotein | BF6: 50 | BG6: 55 | BH6: 65 | BJ6: Weizen ≥ 14 % Rohprotein | BK6: 70 | BL6: 80 | BM6: 90 | BN6: =IF('Kali u Kosten'!$H$3="ja",BO6,IF($V$27="nein",0,0)) -> 50 | BO6: 50 | BQ6: =IFERROR(COUNTIF(Liste_Ackerkulturen_Gemüse_DropDown[Ackerkulturen],N_Bedarf!$C8),0) -> 2 | BS6: Dinkel (Spelzenanteil ca. 30 %) | BT6: =IFERROR(INDEX(Liste_Ackerkulturen_Gemüse_DropDown[Ackerkulturen],_xlfn.AGGREGATE(15,6,(ROW(Liste_Ackerkulturen_Gemüse_DropDown[Ackerkulturen])-1)/(--(SEARCH(BU$2,Liste_Ackerkulturen_Gemüse_DropDown[Ackerkulturen])>0)),ROW()-2),1),"") -> Durum - Hartweizen | BV6: =IFERROR(INDEX(Liste_Ackerkulturen_Gemüse_DropDown[Ackerkulturen],_xlfn.AGGREGATE(15,6,(ROW(Liste_Ackerkulturen_Gemüse_DropDown[Ackerkulturen])-1)/(--(SEARCH(BW$2,Liste_Ackerkulturen_Gemüse_DropDown[Ackerkulturen])>0)),ROW()-2),1),"") -> Durum - Hartweizen | BX6: =IFERROR(INDEX(Liste_Ackerkulturen_Gemüse_DropDown[Ackerkulturen],_xlfn.AGGREGATE(15,6,(ROW(Liste_Ackerkulturen_Gemüse_DropDown[Ackerkulturen])-1)/(--(SEARCH(BY$2,Liste_Ackerkulturen_Gemüse_DropDown[Ackerkulturen])>0)),ROW()-2),1),"") -> Durum - Hartweizen | BZ6: =IFERROR(INDEX(Liste_Ackerkulturen_Gemüse_DropDown[Ackerkulturen],_xlfn.AGGREGATE(15,6,(ROW(Liste_Ackerkulturen_Gemüse_DropDown[Ackerkulturen])-1)/(--(SEARCH(CA$2,Liste_Ackerkulturen_Gemüse_DropDown[Ackerkulturen])>0)),ROW()-2),1),"") -> Durum - Hartweizen | CB6: =IFERROR(INDEX(Liste_Ackerkulturen_Gemüse_DropDown[Ackerkulturen],_xlfn.AGGREGATE(15,6,(ROW(Liste_Ackerkulturen_Gemüse_DropDown[Ackerkulturen])-1)/(--(SEARCH(CC$2,Liste_Ackerkulturen_Gemüse_DropDown[Ackerkulturen])>0)),ROW()-2),1),"") -> Durum - Hartweizen | CD6: =IFERROR(INDEX(Liste_Ackerkulturen_Gemüse_DropDown[Ackerkulturen],_xlfn.AGGREGATE(15,6,(ROW(Liste_Ackerkulturen_Gemüse_DropDown[Ackerkulturen])-1)/(--(SEARCH(CE$2,Liste_Ackerkulturen_Gemüse_DropDown[Ackerkulturen])>0)),ROW()-2),1),"") -> Durum - Hartweizen | CF6: =IFERROR(INDEX(Liste_Ackerkulturen_Gemüse_DropDown[Ackerkulturen],_xlfn.AGGREGATE(15,6,(ROW(Liste_Ackerkulturen_Gemüse_DropDown[Ackerkulturen])-1)/(--(SEARCH(CG$2,Liste_Ackerkulturen_Gemüse_DropDown[Ackerkulturen])>0)),ROW()-2),1),"") -> Durum - Hartweizen | CH6: =IFERROR(INDEX(Liste_Ackerkulturen_Gemüse_DropDown[Ackerkulturen],_xlfn.AGGREGATE(15,6,(ROW(Liste_Ackerkulturen_Gemüse_DropDown[Ackerkulturen])-1)/(--(SEARCH(CI$2,Liste_Ackerkulturen_Gemüse_DropDown[Ackerkulturen])>0)),ROW()-2),1),"") -> Durum - Hartweizen | CJ6: =IFERROR(INDEX(Liste_Ackerkulturen_Gemüse_DropDown[Ackerkulturen],_xlfn.AGGREGATE(15,6,(ROW(Liste_Ackerkulturen_Gemüse_DropDown[Ackerkulturen])-1)/(--(SEARCH(CK$2,Liste_Ackerkulturen_Gemüse_DropDown[Ackerkulturen])>0)),ROW()-2),1),"") -> Durum - Hartweizen | CL6: =IFERROR(INDEX(Liste_Ackerkulturen_Gemüse_DropDown[Ackerkulturen],_xlfn.AGGREGATE(15,6,(ROW(Liste_Ackerkulturen_Gemüse_DropDown[Ackerkulturen])-1)/(--(SEARCH(CM$2,Liste_Ackerkulturen_Gemüse_DropDown[Ackerkulturen])>0)),ROW()-2),1),"") -> Durum - Hartweizen | CN6: =IFERROR(INDEX(Liste_Ackerkulturen_Gemüse_DropDown[Ackerkulturen],_xlfn.AGGREGATE(15,6,(ROW(Liste_Ackerkulturen_Gemüse_DropDown[Ackerkulturen])-1)/(--(SEARCH(CO$2,Liste_Ackerkulturen_Gemüse_DropDown[Ackerkulturen])>0)),ROW()-2),1),"") -> Durum - Hartweizen | CP6: =IFERROR(INDEX(Liste_Ackerkulturen_Gemüse_DropDown[Ackerkulturen],_xlfn.AGGREGATE(15,6,(ROW(Liste_Ackerkulturen_Gemüse_DropDown[Ackerkulturen])-1)/(--(SEARCH(CQ$2,Liste_Ackerkulturen_Gemüse_DropDown[Ackerkulturen])>0)),ROW()-2),1),"") -> Durum - Hartweizen | CR6: =IFERROR(INDEX(Liste_Ackerkulturen_Gemüse_DropDown[Ackerkulturen],_xlfn.AGGREGATE(15,6,(ROW(Liste_Ackerkulturen_Gemüse_DropDown[Ackerkulturen])-1)/(--(SEARCH(CS$2,Liste_Ackerkulturen_Gemüse_DropDown[Ackerkulturen])>0)),ROW()-2),1),"") -> Durum - Hartweizen | CV6: GL < 40 % Leguminosen 4 Nutzungen | CW6: =IFERROR(INDEX(Liste_Grünland_DropDown[Grünland],_xlfn.AGGREGATE(15,6,(ROW(Liste_Grünland_DropDown[Grünland])-1)/(--(SEARCH(CX$2,Liste_Grünland_DropDown[Grünland])>0)),ROW()-2),1),"") -> GL < 40 % Leguminosen 3 Nutzungen | CY6: =IFERROR(INDEX(Liste_Grünland_DropDown[Grünland],_xlfn.AGGREGATE(15,6,(ROW(Liste_Grünland_DropDown[Grünland])-1)/(--(SEARCH(CZ$2,Liste_Grünland_DropDown[Grünland])>0)),ROW()-2),1),"") -> GL < 40 % Leguminosen 3 Nutzungen | DA6: =IFERROR(INDEX(Liste_Grünland_DropDown[Grünland],_xlfn.AGGREGATE(15,6,(ROW(Liste_Grünland_DropDown[Grünland])-1)/(--(SEARCH(DB$2,Liste_Grünland_DropDown[Grünland])>0)),ROW()-2),1),"") -> GL < 40 % Leguminosen 3 Nutzungen | DC6: =IFERROR(INDEX(Liste_Grünland_DropDown[Grünland],_xlfn.AGGREGATE(15,6,(ROW(Liste_Grünland_DropDown[Grünland])-1)/(--(SEARCH(DD$2,Liste_Grünland_DropDown[Grünland])>0)),ROW()-2),1),"") -> GL < 40 % Leguminosen 3 Nutzungen | DE6: =IFERROR(INDEX(Liste_Grünland_DropDown[Grünland],_xlfn.AGGREGATE(15,6,(ROW(Liste_Grünland_DropDown[Grünland])-1)/(--(SEARCH(DF$2,Liste_Grünland_DropDown[Grünland])>0)),ROW()-2),1),"") -> GL < 40 % Leguminosen 3 Nutzungen | DG6: =IFERROR(INDEX(Liste_Grünland_DropDown[Grünland],_xlfn.AGGREGATE(15,6,(ROW(Liste_Grünland_DropDown[Grünland])-1)/(--(SEARCH(DH$2,Liste_Grünland_DropDown[Grünland])>0)),ROW()-2),1),"") -> GL < 40 % Leguminosen 3 Nutzungen
A7: c | B7: =CONCATENATE(A7," - ",C7) -> c - | G7: =IF(ISERROR(AE7),"",AE7) | I7: =IF(AND(ISNA(AH7),ISBLANK(C7)),0,IF(ISNA(AH7),H7,AH7)) -> 0 | J7: =E7*I7 -> 0 | L7: =IF(ISNA(AI7),0,AI7) -> 0 | M7: =IF(ISBLANK(K7),E7*L7,E7*K7) -> 0 | AE7: =IFERROR(IF(OR(C7="",E7="",F7=""),"",(IF(F7="niedrig",VLOOKUP(C7,Liste_N_Bedarf,3,0),IF(F7="mittel",VLOOKUP(C7,Liste_N_Bedarf,5,0),IF(F7="hoch 1",VLOOKUP(C7,Liste_N_Bedarf,7,0),IF(F7="hoch 2",VLOOKUP(C7,Liste_N_Bedarf,9,0),IF(F7="hoch 3",VLOOKUP(C7,Liste_N_Bedarf,11,0),IF(F7="GW-mittel",VLOOKUP(C7,Liste_N_Bedarf,13,0),IF(F7="GW-hoch",VLOOKUP(C7,Liste_N_Bedarf,15,0)))))))))),"") | AF7: =IF(J7>0,E7,0) -> 0 | AG7: =IF(ISBLANK(F7),0,VLOOKUP(C7,Liste_N_Bedarf,9,0)) -> 0 | AH7: =IF(F7="niedrig",VLOOKUP(C7,Liste_N_Bedarf,2,0),IF(F7="mittel",VLOOKUP(C7,Liste_N_Bedarf,4,0),IF(F7="hoch 1",VLOOKUP(C7,Liste_N_Bedarf,6,0),IF(F7="hoch 2",VLOOKUP(C7,Liste_N_Bedarf,8,0),IF(F7="hoch 3",VLOOKUP(C7,Liste_N_Bedarf,10,0),IF(F7="GW-mittel",VLOOKUP(C7,Liste_N_Bedarf,12,0),IF(F7="GW-hoch",VLOOKUP(C7,Liste_N_Bedarf,14,0),0))))))) -> 0 | AI7: =IF(F7="niedrig",VLOOKUP(C7,Liste_P_Bedarf,2,0),IF(F7="GW-mittel",VLOOKUP(C7,Liste_P_Bedarf,3,0),IF(F7="mittel",VLOOKUP(C7,Liste_P_Bedarf,3,0),IF(F7="GW-hoch",VLOOKUP(C7,Liste_P_Bedarf,4,0),IF(F7="hoch 1",VLOOKUP(C7,Liste_P_Bedarf,4,0),IF(F7="hoch 2",VLOOKUP(C7,Liste_P_Bedarf,4,0),IF(F7="hoch 3",VLOOKUP(C7,Liste_P_Bedarf,4,0),0))))))) -> 0 | AJ7: =IF(F7="niedrig",VLOOKUP(C7,Liste_K_Bedarf,2,0),IF(F7="GW-mittel",VLOOKUP(C7,Liste_K_Bedarf,3,0),IF(F7="mittel",VLOOKUP(C7,Liste_K_Bedarf,3,0),IF(F7="GW-hoch",VLOOKUP(C7,Liste_K_Bedarf,4,0),IF(F7="hoch 1",VLOOKUP(C7,Liste_K_Bedarf,4,0),IF(F7="hoch 2",VLOOKUP(C7,Liste_K_Bedarf,4,0),IF(F7="hoch 3",VLOOKUP(C7,Liste_K_Bedarf,4,0),0))))))) -> 0 | AK7: =IF(ISBLANK(F7),0,VLOOKUP(C7,Liste_K_Bedarf,5,0)) -> 0 | AL7: =IF(ISBLANK(F7),0,VLOOKUP(C7,Liste_N_Bedarf,17,0)) -> 0 | AM7: Durum - Hartweizen | AN7: 105 | AO7: <3,5 | AP7: 145 | AQ7: 3,5 - 5,0 | AR7: 170 | AS7: 5,0 - 6,25 | AT7: 180 | AU7: 6,25 - 7,5 | AV7: 195 | AW7: > 7,5 | AX7: 130 | AY7: 3,5 - 5,0 | AZ7: 150 | BA7: > 5,0 | BB7: 23 | BE7: Durum - Hartweizen | BF7: 50 | BG7: 55 | BH7: 65 | BJ7: Durum - Hartweizen | BK7: 70 | BL7: 80 | BM7: 90 | BN7: =IF('Kali u Kosten'!$H$3="ja",BO7,IF($V$27="nein",0,0)) -> 50 | BO7: 50 | BQ7: =IFERROR(COUNTIF(Liste_Ackerkulturen_Gemüse_DropDown[Ackerkulturen],N_Bedarf!$C9),0) -> 2 | BS7: Wintergerste | BT7: =IFERROR(INDEX(Liste_Ackerkulturen_Gemüse_DropDown[Ackerkulturen],_xlfn.AGGREGATE(15,6,(ROW(Liste_Ackerkulturen_Gemüse_DropDown[Ackerkulturen])-1)/(--(SEARCH(BU$2,Liste_Ackerkulturen_Gemüse_DropDown[Ackerkulturen])>0)),ROW()-2),1),"") -> Dinkel (Spelzenanteil ca. 30 %) | BV7: =IFERROR(INDEX(Liste_Ackerkulturen_Gemüse_DropDown[Ackerkulturen],_xlfn.AGGREGATE(15,6,(ROW(Liste_Ackerkulturen_Gemüse_DropDown[Ackerkulturen])-1)/(--(SEARCH(BW$2,Liste_Ackerkulturen_Gemüse_DropDown[Ackerkulturen])>0)),ROW()-2),1),"") -> Dinkel (Spelzenanteil ca. 30 %) | BX7: =IFERROR(INDEX(Liste_Ackerkulturen_Gemüse_DropDown[Ackerkulturen],_xlfn.AGGREGATE(15,6,(ROW(Liste_Ackerkulturen_Gemüse_DropDown[Ackerkulturen])-1)/(--(SEARCH(BY$2,Liste_Ackerkulturen_Gemüse_DropDown[Ackerkulturen])>0)),ROW()-2),1),"") -> Dinkel (Spelzenanteil ca. 30 %) | BZ7: =IFERROR(INDEX(Liste_Ackerkulturen_Gemüse_DropDown[Ackerkulturen],_xlfn.AGGREGATE(15,6,(ROW(Liste_Ackerkulturen_Gemüse_DropDown[Ackerkulturen])-1)/(--(SEARCH(CA$2,Liste_Ackerkulturen_Gemüse_DropDown[Ackerkulturen])>0)),ROW()-2),1),"") -> Dinkel (Spelzenanteil ca. 30 %) | CB7: =IFERROR(INDEX(Liste_Ackerkulturen_Gemüse_DropDown[Ackerkulturen],_xlfn.AGGREGATE(15,6,(ROW(Liste_Ackerkulturen_Gemüse_DropDown[Ackerkulturen])-1)/(--(SEARCH(CC$2,Liste_Ackerkulturen_Gemüse_DropDown[Ackerkulturen])>0)),ROW()-2),1),"") -> Dinkel (Spelzenanteil ca. 30 %) | CD7: =IFERROR(INDEX(Liste_Ackerkulturen_Gemüse_DropDown[Ackerkulturen],_xlfn.AGGREGATE(15,6,(ROW(Liste_Ackerkulturen_Gemüse_DropDown[Ackerkulturen])-1)/(--(SEARCH(CE$2,Liste_Ackerkulturen_Gemüse_DropDown[Ackerkulturen])>0)),ROW()-2),1),"") -> Dinkel (Spelzenanteil ca. 30 %) | CF7: =IFERROR(INDEX(Liste_Ackerkulturen_Gemüse_DropDown[Ackerkulturen],_xlfn.AGGREGATE(15,6,(ROW(Liste_Ackerkulturen_Gemüse_DropDown[Ackerkulturen])-1)/(--(SEARCH(CG$2,Liste_Ackerkulturen_Gemüse_DropDown[Ackerkulturen])>0)),ROW()-2),1),"") -> Dinkel (Spelzenanteil ca. 30 %) | CH7: =IFERROR(INDEX(Liste_Ackerkulturen_Gemüse_DropDown[Ackerkulturen],_xlfn.AGGREGATE(15,6,(ROW(Liste_Ackerkulturen_Gemüse_DropDown[Ackerkulturen])-1)/(--(SEARCH(CI$2,Liste_Ackerkulturen_Gemüse_DropDown[Ackerkulturen])>0)),ROW()-2),1),"") -> Dinkel (Spelzenanteil ca. 30 %) | CJ7: =IFERROR(INDEX(Liste_Ackerkulturen_Gemüse_DropDown[Ackerkulturen],_xlfn.AGGREGATE(15,6,(ROW(Liste_Ackerkulturen_Gemüse_DropDown[Ackerkulturen])-1)/(--(SEARCH(CK$2,Liste_Ackerkulturen_Gemüse_DropDown[Ackerkulturen])>0)),ROW()-2),1),"") -> Dinkel (Spelzenanteil ca. 30 %) | CL7: =IFERROR(INDEX(Liste_Ackerkulturen_Gemüse_DropDown[Ackerkulturen],_xlfn.AGGREGATE(15,6,(ROW(Liste_Ackerkulturen_Gemüse_DropDown[Ackerkulturen])-1)/(--(SEARCH(CM$2,Liste_Ackerkulturen_Gemüse_DropDown[Ackerkulturen])>0)),ROW()-2),1),"") -> Dinkel (Spelzenanteil ca. 30 %) | CN7: =IFERROR(INDEX(Liste_Ackerkulturen_Gemüse_DropDown[Ackerkulturen],_xlfn.AGGREGATE(15,6,(ROW(Liste_Ackerkulturen_Gemüse_DropDown[Ackerkulturen])-1)/(--(SEARCH(CO$2,Liste_Ackerkulturen_Gemüse_DropDown[Ackerkulturen])>0)),ROW()-2),1),"") -> Dinkel (Spelzenanteil ca. 30 %) | CP7: =IFERROR(INDEX(Liste_Ackerkulturen_Gemüse_DropDown[Ackerkulturen],_xlfn.AGGREGATE(15,6,(ROW(Liste_Ackerkulturen_Gemüse_DropDown[Ackerkulturen])-1)/(--(SEARCH(CQ$2,Liste_Ackerkulturen_Gemüse_DropDown[Ackerkulturen])>0)),ROW()-2),1),"") -> Dinkel (Spelzenanteil ca. 30 %) | CR7: =IFERROR(INDEX(Liste_Ackerkulturen_Gemüse_DropDown[Ackerkulturen],_xlfn.AGGREGATE(15,6,(ROW(Liste_Ackerkulturen_Gemüse_DropDown[Ackerkulturen])-1)/(--(SEARCH(CS$2,Liste_Ackerkulturen_Gemüse_DropDown[Ackerkulturen])>0)),ROW()-2),1),"") -> Dinkel (Spelzenanteil ca. 30 %) | CV7: GL < 40 % Leguminosen 5 Nutzungen | CW7: =IFERROR(INDEX(Liste_Grünland_DropDown[Grünland],_xlfn.AGGREGATE(15,6,(ROW(Liste_Grünland_DropDown[Grünland])-1)/(--(SEARCH(CX$2,Liste_Grünland_DropDown[Grünland])>0)),ROW()-2),1),"") -> GL < 40 % Leguminosen 4 Nutzungen | CY7: =IFERROR(INDEX(Liste_Grünland_DropDown[Grünland],_xlfn.AGGREGATE(15,6,(ROW(Liste_Grünland_DropDown[Grünland])-1)/(--(SEARCH(CZ$2,Liste_Grünland_DropDown[Grünland])>0)),ROW()-2),1),"") -> GL < 40 % Leguminosen 4 Nutzungen | DA7: =IFERROR(INDEX(Liste_Grünland_DropDown[Grünland],_xlfn.AGGREGATE(15,6,(ROW(Liste_Grünland_DropDown[Grünland])-1)/(--(SEARCH(DB$2,Liste_Grünland_DropDown[Grünland])>0)),ROW()-2),1),"") -> GL < 40 % Leguminosen 4 Nutzungen | DC7: =IFERROR(INDEX(Liste_Grünland_DropDown[Grünland],_xlfn.AGGREGATE(15,6,(ROW(Liste_Grünland_DropDown[Grünland])-1)/(--(SEARCH(DD$2,Liste_Grünland_DropDown[Grünland])>0)),ROW()-2),1),"") -> GL < 40 % Leguminosen 4 Nutzungen | DE7: =IFERROR(INDEX(Liste_Grünland_DropDown[Grünland],_xlfn.AGGREGATE(15,6,(ROW(Liste_Grünland_DropDown[Grünland])-1)/(--(SEARCH(DF$2,Liste_Grünland_DropDown[Grünland])>0)),ROW()-2),1),"") -> GL < 40 % Leguminosen 4 Nutzungen | DG7: =IFERROR(INDEX(Liste_Grünland_DropDown[Grünland],_xlfn.AGGREGATE(15,6,(ROW(Liste_Grünland_DropDown[Grünland])-1)/(--(SEARCH(DH$2,Liste_Grünland_DropDown[Grünland])>0)),ROW()-2),1),"") -> GL < 40 % Leguminosen 4 Nutzungen
